Workbook

Sheet Anonimizēta aptaujas datu kopa
A1: ANONIMIZĒTA APTAUJAS DATU KOPA
A2: Anonimizēšanas principi: precīzs laika zīmogs aizstāts ar respondenta ID un aptaujas mēnesi; brīvteksta laukos automatizēti aizvietoti identificējami ārstu vārdi, e-pasti, tālruņi, personas kodi un saites. Pirms publiskas izplatīšanas brīvteksta laukiem ieteicama manuāla pārbaude.
A4: Respondenta ID | B4: Aptaujas mēnesis | C4: Jūsu pašreizējā vecuma grupa: | D4: Jūsu vecuma grupa diagnozes uzstādīšanas laikā: | E4: Jūsu dzimums: | F4: Jūsu iegūtā izglītība: | G4: Jūsu dzīvesvieta (novads vai valstspilsēta): | H4: Cik ilgs laiks pagāja no brīža, kad Jums radās pirmās aizdomas par veselības problēmu (simptomi vai izmeklējuma rezultāts), līdz Jūs sazinājāties ar savu ģimenes ārsta praksi? | I4: Vai ģimenes ārsts nekavējoties reaģēja uz jūsu sūdzību un nosūtīja jūs uz izmeklējumiem un pie profila speciālista? | J4: Cik ilgs laiks pagāja no brīža, kad Jums radās pirmās aizdomas par veselības problēmu (simptomi vai izmeklējuma rezultāts), līdz Jūs apmeklējāt speciālistu? | K4: Vai speciālists nekavējoties reaģēja uz Jūsu situāciju un nosūtīja Jūs uz izmeklējumiem? | L4: Kad ģimenes ārsts/speciālists Jūs nosūtīja uz izmeklējumiem, vai Jums tika saprotami paskaidrots, kāpēc tas ir nepieciešams? | M4: Cik viegli vai grūti bija pierakstīties uz nepieciešamajiem radioloģiskajiem izmeklējumiem? | N4: Cik ilgs laiks pagāja līdz izmeklējuma veikšanai? | O4: Vai Jūs bijāt apmierināti ar gaidīšanas ilgumu līdz izmeklējuma veikšanai? | P4: Vai izmeklējumu veicāt valsts apmaksātā kārtībā (pēc kvotām) vai privātajā sektorā? | Q4: Vai pirms radioloģiskā izmeklējuma saņēmāt skaidru informāciju, kā tam sagatavoties (piemēram, nedrīkst ēst, jādzer ūdens, jāpaņem līdzi iepriekšējie izmeklējumi u.c.)? | R4: Kad ieradāties uz izmeklējumu, vai medicīnas personālam (piemēram, radiologam/radiogrāferam/radiologa asistentam) bija pieejama visa nepieciešamā informācija par Jums un Jūsu veselību? | S4: Vai speciālists (radiologs/radiogrāfers/radiologa asistents), kurš veica izmeklējumu, Jums skaidri paskaidroja procedūras gaitu? | T4: Kā Jūs vērtējat iejūtību un rūpes, ko saņēmāt paša radioloģiskā izmeklējuma laikā no personāla puses? | U4: Vai bijāt apmierināts ar gaidīšanas laiku, līdz izmeklējuma rezultātu saņemšanai? | V4: Vai ārstam speciālistam bija pieejami Jūsu izmeklējuma rezultāti? (apraksts un attēli) | W4: Kā speciālists iepazinās ar Jūsu izmeklējuma rezultātiem (attēliem un aprakstu)? | X4: Vai izmeklējumu rezultāti Jums tika izskaidroti saprotamā veidā? | Y4: Vai Jums bija situācija, kad kāds no radioloģiskajiem izmeklējumiem bija jāveic atkārtoti, jo iepriekšējais bija tehniski nekvalitatīvs, pazudis, nebija pieejams ārstam, vai arī speciālists lūdza izmeklējumu pārtaisīt konkrētajā ārstniecības iestādē? | Z4: Vai tikāt informēts (-a) par iespēju pieaicināt atbalsta personu (piemēram, tuvinieku vai draugu)? | AA4: Novērtējiet, lūdzu, sekojošus apgalvojumus par to, kā Jums paziņoja diagnozi: [Ārsts izskaidroja manu diagnozi saprotamā un pietiekami detalizētā veidā] | AB4: Novērtējiet, lūdzu, sekojošus apgalvojumus par to, kā Jums paziņoja diagnozi: [Vai diagnoze tika paziņota iejūtīgā veidā?] | AC4: Novērtējiet, lūdzu, sekojošus apgalvojumus par to, kā Jums paziņoja diagnozi: [Vai Jums tika dota iespēja uzdot jautājumus?] | AD4: Novērtējiet, lūdzu, sekojošus apgalvojumus par to, kā Jums paziņoja diagnozi: [Vai vieta, kur Jums paziņoja diagnozi, bija piemērota (nodrošināja privātumu)?] | AE4: Kā Jūs jutāties, saņemot diagnozi no speciālista? Lūdzu, izvēlieties situāciju, kas visprecīzāk raksturo Jūsu pieredzi. | AF4: Vai Jums saprotamā veidā tika izskaidrotas Jūsu ārstēšanas iespējas? | AG4: Vai Jūs tikāt iesaistīts(-a) lēmumu pieņemšanā par savu ārstēšanu tik daudz, cik Jūs to vēlējāties? | AH4: Vai Jums tika sniegta informācija par to, kur vērsties papildus jautājumu gadījumā? | AI4: Vai Jums tika sniegta informācija vai palīdzība saistībā ar administratīviem vai finansiāliem jautājumiem (piemēram, slimības lapas, invaliditātes pabalsti, kompensējamie medikamenti)? | AJ4: Kopumā, kā Jūs novērtētu saņemto aprūpi laika posmā no pirmajām aizdomām vai simptomiem līdz ārstēšanas plāna apstiprināšanai? Novērtējiet skalā no 0 (ļoti slikti) līdz 10 (izcili). | AK4: Cik labi Jūs, balstoties uz visu savu pieredzi šajā diagnostikas posmā (no pirmajām aizdomām līdz ārstēšanas plāna apstiprināšanai), sapratāt, kādi ir nākamie soļi – kur Jums jādodas, kādā secībā un ko darīt tālāk? | AL4: Jūsu vārdiem – kas Jūsu pieredzē šajā posmā bija īpaši slikts vai negatīvs? | AM4: Jūsu vārdiem – kas Jūsu pieredzē šajā posmā bija īpaši labs vai pozitīvs? | AN4: Jūsu vārdiem – ko varētu uzlabot, lai citiem pacientiem šis posms būtu vieglāks?
A5: R001 | B5: 2025-11 | C5: 40-49 | E5: Sieviete | F5: Augstākā izglītība (bakalaura, maģistra vai doktora grāds) | G5: Jūrmala | H5: 1-2 nedēļas | J5: 3-4 nedēļas | L5: Nē, nesaprotami | M5: Ļoti grūti | O5: Neapmierināts(-a) | Q5: Jā, bet informācija bija daļēja vai neskaidra | R5: Neesmu drošs(-a) | S5: Jā, daļēji saprotami | T5: 7 | U5: Apmierināts(-a) | V5: Nē, man pašam(-ai) bija jānodrošina rezultātu (piem., diska) nogādāšana ārstam | X5: Jā, daļēji saprotami | Y5: Nē, man nebija šādas pieredzes | Z5: Nē, man nepiedāvāja šādu iespēju | AB5: Noteikti nē | AC5: Drīzāk nē | AD5: Drīzāk jā | AF5: Nē, nesaprotami | AG5: Nē, nemaz | AH5: Nē | AI5: Nē, nesaņēmu nekādu informāciju | AJ5: 2 | AL5: • Grūtības ar ģimenes ārstu: sākotnēji atteikumi izsniegt nosūtījumus uz nepieciešamajām un konsultācijām, manas sūdzības tika trivializētas (“viss kārtībā”). • Nav skaidra pacienta maršruta: trūka saprotamas secības – kur doties un ko darīt tālāk; informācija bija haotiska. • Slikta komunikācija ar ķīmijterapeitu: uz jautājumiem sniegtas īsas, sausas atbildes bez skaidrojumiem; nebija iespējas saņemt papildu precizējumus. • Empātijas trūkums: ārsta attieksme šķita vienaldzīga un auksta; neradās sajūta, ka ir interese palīdzēt. • Diagnozes paziņošana neskaidri: netika skaidri pateikts, ka tā ir onkoloģija, un kādi ir nākamie soļi; tas radīja apjukumu un neziņu. • Kopējais iespaids par sistēmu: izjūta par “pilnīgu haosu”; ja būtu bijusi iespēja, būtu mainījusi ārstu. | AM5: • Sistēmā pozitīvu aspektu nav: pašā veselības aprūpes sistēmā pozitīvas pieredzes diemžēl nevaru izcelt. • Pacientu un labdarības organizāciju atbalsts: tādas organizācijas kā “Par Dzīvot” sniedza psiholoģisku atbalstu un palīdzēja rast pagaidu emocionālu līdzsvaru. • Praktiska informācija no pacientu kopienas: tika saņemti skaidri ieteikumi par soļu secību un atbildes uz daudziem praktiskiem jautājumiem. | AN5: • Sadarbība ar ģimenes ārstiem: nepieciešams uzlabot ģimenes ārstu reakcijas ātrumu un ieinteresētību. Savlaicīga nosūtījuma izsniegšana uz analīzēm vai pie speciālista var būt izšķiroša pacienta dzīvībai. • Skaidrs ārstēšanas maršruts: jāizveido saprotama un konsekventa sistēma – kādi izmeklējumi un ārstēšanas posmi seko cits citam. Tas palīdzētu pacientam justies drošāk un izvairīties no apjukuma. • Speciālistu empātija un iesaiste: ārstiem būtu jāatceras, ka katrs pacients ar diagnozi saskaras pirmo reizi. Tas viņam ir emocionāls šoks un neziņa, tāpēc ir svarīgi, lai ārsts skaidrotu, kas notiek un kāpēc tiek pieņemti konkrēti lēmumi. • Labāka komunikācija: ārstam būtu jāpaskaidro medikamentu nozīme, konsīlija lēmumu pamatojums un nākamie soļi ārstēšanā, nevis tikai sniegt tehnisku informāciju. • Ieteikums pacientiem: vēlams doties uz ārsta vizītēm kopā ar tuvinieku, kurš var palīdzēt uzdot precizējošus jautājumus un labāk uztvert sniegto informāciju, jo pēc diagnozes saņemšanas pats pacients bieži ir emocionālā šokā.
A6: R002 | B6: 2025-11 | C6: 40-49 | E6: Sieviete | F6: Augstākā izglītība (bakalaura, maģistra vai doktora grāds) | G6: Ādažu novads | H6: Nesazinājos (pāriet uz nākamo jautājumu) | J6: 1-3 mēneši | L6: Jā, daļēji saprotami | M6: Ne viegli, ne grūti | O6: Apmierināts(-a) | Q6: Sagatavošanās nebija nepieciešama | R6: Neesmu drošs(-a) | S6: Nē, nepaskaidroja | T6: 1 | U6: Apmierināts(-a) | V6: Nē, man pašam(-ai) bija jānodrošina rezultātu (piem., diska) nogādāšana ārstam | X6: Jā, daļēji saprotami | Y6: Jā, vienu reizi | Z6: Nē, man nepiedāvāja šādu iespēju | AB6: Noteikti nē | AC6: Drīzāk jā | AD6: Drīzāk jā | AF6: Nē, nesaprotami | AG6: Jā, daļēji | AH6: Neatceros | AI6: Nē, nesaņēmu nekādu informāciju | AJ6: 4 | AL6: Attieksme | AM6: Nezinu | AN6: uztaisīt remontu
A7: R003 | B7: 2025-11 | C7: 40-49 | E7: Sieviete | F7: Augstākā izglītība (bakalaura, maģistra vai doktora grāds) | G7: Rīga | H7: Nesazinājos (pāriet uz nākamo jautājumu) | J7: Mazāk nekā nedēļa | L7: Jā, pilnībā saprotami | M7: Mani pierakstīja ģimenes ārsts/speciālists | O7: Ļoti apmierināts(-a) | Q7: Jā, saņēmu pilnīgu un saprotamu informāciju | R7: Jā, šķita, ka viņiem bija visa informācija | S7: Jā, pilnībā saprotami | T7: 10 | U7: Ļoti apmierināts(-a) | V7: Jā, viss bija pieejams | X7: Jā, daļēji saprotami | Y7: Jā, vienu reizi | Z7: Jā, man piedāvāja šādu iespēju | AB7: Noteikti jā | AC7: Noteikti jā | AD7: Noteikti jā | AF7: Jā, pilnībā saprotami | AG7: Jā, pilnībā | AH7: Jā | AI7: Jā, saņēmu visu nepieciešamo informāciju | AJ7: 10 | AL7: Nekas | AM7: Biju slimnīca, saņēmu maksimālu uzmanību, visu informāciju un atbalstu | AN7: Pirms un pēc iespējamās diagnozes paziņošanas organizēt tikšanos ar psihologu.
A8: R004 | B8: 2025-12 | C8: 40-49 | D8: 30-39 | E8: Sieviete | F8: Augstākā izglītība (bakalaura, maģistra vai doktora grāds) | G8: Ādažu novads | H8: Nesazinājos (pāriet uz nākamo jautājumu) | I8: Grūti atbildēt / neatceros | J8: 1-3 mēneši | K8: Jā, nekavējoties | L8: Jā, daļēji saprotami | M8: Ne viegli, ne grūti | N8: 1–2 nedēļas | O8: Ne apmierināts(-a), ne neapmierināts(-a) | P8: Privātajā sektorā par maksu | Q8: Nē, informāciju nesaņēmu | R8: Neesmu drošs(-a) | S8: Nē, nepaskaidroja | T8: 1 | U8: Apmierināts(-a) | V8: Nē, man pašam(-ai) bija jānodrošina rezultātu (piem., diska) nogādāšana ārstam | W8: Speciālists izskatīja izmeklējuma attēlus/aprakstu manas vizītes laikā | X8: Nē, es nesapratu skaidrojumu | Y8: Jā, speciālists lūdza izmeklējumu pārtaisīt konkrētajā ārstniecības iestādē | Z8: Nē, man nepiedāvāja šādu iespēju | AA8: Noteikti nē | AB8: Noteikti nē | AC8: Drīzāk jā | AD8: Noteikti nē | AE8: Es sajutu vienaldzību vai pat zināmu atturību no ārsta puses. | AF8: Nē, nesaprotami | AG8: Jā, daļēji | AH8: Neatceros | AI8: Nē, nesaņēmu nekādu informāciju | AJ8: 5 | AK8: Pilnībā nesapratu un man trūka informācijas | AL8: . | AM8: . | AN8: .
A9: R005 | B9: 2025-12 | C9: 40-49 | D9: 30-39 | E9: Sieviete | F9: Augstākā izglītība (bakalaura, maģistra vai doktora grāds) | G9: Rīga | H9: Nesazinājos (pāriet uz nākamo jautājumu) | I9: Jā, nekavējoties | J9: Mazāk nekā nedēļa | K9: Jā, nekavējoties | L9: Jā, pilnībā saprotami | M9: Mani pierakstīja ģimenes ārsts/speciālists | N9: Mazāk nekā 1 nedēļa | O9: Ļoti apmierināts(-a) | P9: Valsts apmaksātā kārtībā (kvotā) | Q9: Jā, saņēmu pilnīgu un saprotamu informāciju | R9: Jā, šķita, ka viņiem bija visa informācija | S9: Jā, pilnībā saprotami | T9: 10 | U9: Ļoti apmierināts(-a) | V9: Jā, viss bija pieejams | W9: Speciālists bija iepriekš iepazinies ar maniem izmeklējuma rezultātiem | X9: Jā, pilnībā saprotami | Y9: Nē, man nebija šādas pieredzes | Z9: Jā, man piedāvāja šādu iespēju | AA9: Noteikti jā | AB9: Noteikti jā | AC9: Noteikti jā | AD9: Noteikti jā | AE9: Es sajutu ārsta iesaisti un ieinteresētību - ārsts centās saprotami izskaidrot diagnozi un ārstēšanas plānu. | AF9: Jā, pilnībā saprotami | AG9: Jā, pilnībā | AH9: Jā | AI9: Jā, saņēmu visu nepieciešamo informāciju | AJ9: 10 | AK9: Pārsvarā sapratu, bet atsevišķi soļi nebija līdz galam skaidri | AL9: Negatīva nebija | AM9: Es saņēmu gan psiholoģisku, gan informatīvu atbalstu no sava onkologa. Onkoloģe sniedza savu personisko numuru un bija pieejama 24/7. | AN9: Vēlētos kuratoru, kas varētu palīdzēt ar informāciju un pierakstiem pie ārstiem.
A10: R006 | B10: 2026-01 | C10: 40-49 | D10: 40-49 | E10: Sieviete | F10: Augstākā izglītība (bakalaura, maģistra vai doktora grāds) | G10: Rīga | H10: Mazāk nekā nedēļa | I10: Jā, nekavējoties | J10: 3-4 nedēļas | K10: Jā, nekavējoties | L10: Jā, pilnībā saprotami | M10: Ļoti grūti | N10: 3–4 nedēļas | O10: Neapmierināts(-a) | P10: Privātajā sektorā par maksu | Q10: Jā, saņēmu pilnīgu un saprotamu informāciju | R10: Neesmu drošs(-a) | S10: Jā, pilnībā saprotami | T10: 8 | U10: Ne apmierināts(-a), ne neapmierināts(-a) | V10: Jā, viss bija pieejams | W10: Speciālists izskatīja izmeklējuma attēlus/aprakstu manas vizītes laikā | X10: Jā, daļēji saprotami | Y10: Nē, man nebija šādas pieredzes | Z10: Nē, man nepiedāvāja šādu iespēju | AA10: Drīzāk jā | AB10: Drīzāk jā | AC10: Noteikti jā | AD10: Noteikti jā | AE10: Arsts atbildēja uz visiem jautājumiem, kuri paradijad man un manam tuviniekam kurš bija līdzās | AF10: Man nebija dažādu ārstēšanas iespēju | AG10: Jā, pilnībā | AH10: Jā | AI10: Daļēji, informācija bija nepilnīga | AJ10: 6 | AK10: Pārsvarā sapratu, bet atsevišķi soļi nebija līdz galam skaidri | AL10: Gimenes arsts objektīvi nevar novertēt cik steidzīgi vajadzīgi izmeklējumi, tad jāmeklē kvalitātivi maksas pakalpojumi. Onkologu pieņemšanas laiks vienam pacientam pārāk mazs. | AM10: Ārsta gatavība atbildēt uz jautājumiem un veltīt laiku. | AN10: Darbinieks/kurators kurš var skaidrot šo “ceļu”. Kuram ir laiks “svarīgiem sīkumiem” un kurš saprot kā strādā sistēma.
A11: R007 | B11: 2026-01 | C11: 40-49 | D11: 30-39 | E11: Sieviete | F11: Augstākā izglītība (bakalaura, maģistra vai doktora grāds) | G11: Rīga | H11: Mazāk nekā nedēļa | I11: Jā, nekavējoties | J11: Vērsos ģimenes ārsta praksē (pāriet uz nākamo jautājumu) | K11: Jā, nekavējoties | L11: Jā, daļēji saprotami | M11: Viegli | N11: 1–2 nedēļas | O11: Apmierināts(-a) | P11: Valsts apmaksātā kārtībā (kvotā) | Q11: Jā, bet informācija bija daļēja vai neskaidra | R11: Jā, šķita, ka viņiem bija visa informācija | S11: Jā, daļēji saprotami | T11: 6 | U11: Neapmierināts(-a) | V11: Jā, viss bija pieejams | W11: Speciālists izskatīja izmeklējuma attēlus/aprakstu manas vizītes laikā | X11: Jā, daļēji saprotami | Y11: Nē, man nebija šādas pieredzes | Z11: Jā, man piedāvāja šādu iespēju | AA11: Drīzāk nē | AB11: Drīzāk jā | AC11: Drīzāk jā | AD11: Noteikti jā | AE11: Atbildes bija īsas un formālas, kas radīja apjukumu un nepalīdzēja izprast manu situāciju. | AF11: Jā, daļēji saprotami | AG11: Jā, daļēji | AH11: Nē | AI11: Nē, nesaņēmu nekādu informāciju | AJ11: 6 | AK11: Daļēji sapratu, bieži jutos apjucis(-usi) | AL11: Ilgs biopsijas rezultātu gaidīšanas laiks; netika pietiekami izskaidrota manas diagnozes specifika; ārstēšanas algoritms netika izklāstīts pilnīgi un detalizēti. | AM11: Zaļais koridors un iespēja operatīvi veikt visus nepieciešamos izmeklējumus. | AN11: Detalizēts ārstēšanas algoritma skaidrojums; pieejams kontakts jautājumu uzdošanai; savlaicīga informācija pirms vizītes par iespēju ierasties kopā ar tuvinieku; pacientu maršrutizators (skaidrs rīcības plāns par turpmākajām darbībām un to, kur vērsties tālāk).
A12: R008 | B12: 2026-01 | C12: 50-59 | D12: 50-59 | E12: Sieviete | F12: Augstākā izglītība (bakalaura, maģistra vai doktora grāds) | G12: Rīga | H12: 3-4 nedēļas | I12: Jā, nekavējoties | J12: 3-4 nedēļas | K12: Jā, nekavējoties | L12: Jā, pilnībā saprotami | M12: Mani pierakstīja ģimenes ārsts/speciālists | N12: Mazāk nekā 1 nedēļa | O12: Ļoti apmierināts(-a) | P12: Valsts apmaksātā kārtībā (kvotā) | Q12: Jā, saņēmu pilnīgu un saprotamu informāciju | R12: Jā, šķita, ka viņiem bija visa informācija | S12: Jā, pilnībā saprotami | T12: 10 | U12: Apmierināts(-a) | V12: Jā, viss bija pieejams | W12: Speciālists izskatīja izmeklējuma attēlus/aprakstu manas vizītes laikā | X12: Jā, pilnībā saprotami | Y12: Jā, vienu reizi | Z12: Nē, man nepiedāvāja šādu iespēju | AA12: Noteikti jā | AB12: Noteikti jā | AC12: Noteikti jā | AD12: Noteikti jā | AE12: Es sajutu ārsta iesaisti un ieinteresētību - ārsts centās saprotami izskaidrot diagnozi un ārstēšanas plānu. | AF12: Jā, pilnībā saprotami | AG12: Jā, pilnībā | AH12: Neatceros | AI12: Nē, nesaņēmu nekādu informāciju | AJ12: 10 | AK12: Pilnībā sapratu visu maršrutu un nākamos soļus | AL12: Трудно записаться на плановое обследование | AM12: Прекрасные врачи | AN12: Устранить очереди на обследования и процедуры
A13: R009 | B13: 2026-01 | C13: 40-49 | D13: 40-49 | E13: Sieviete | F13: Augstākā izglītība (bakalaura, maģistra vai doktora grāds) | G13: Daugavpils | H13: Vairāk nekā 3 mēneši | I13: Jā, bet tikai pēc atkārtotas vēršanās vai ar ievērojumu kāvēšanos | J13: 1-3 mēneši | K13: Jā, nekavējoties | L13: Jā, daļēji saprotami | M13: Ne viegli, ne grūti | N13: 1–3 mēneši | O13: Neapmierināts(-a) | P13: Daļēji par maksu, daļēji valsts apmaksāti | Q13: Nē, informāciju nesaņēmu | R13: Neesmu drošs(-a) | S13: Nē, nepaskaidroja | T13: 5 | U13: Neapmierināts(-a) | V13: Jā, viss bija pieejams | W13: Speciālists izskatīja izmeklējuma attēlus/aprakstu manas vizītes laikā | X13: Nē, es nesapratu skaidrojumu | Y13: Nē, man nebija šādas pieredzes | Z13: Nē, man nepiedāvāja šādu iespēju | AA13: Drīzāk nē | AB13: Noteikti nē | AC13: Noteikti nē | AD13: Drīzāk jā | AE13: Atbildes bija īsas un formālas, kas radīja apjukumu un nepalīdzēja izprast manu situāciju. | AF13: Nē, nesaprotami | AG13: Nē, nemaz | AH13: Nē | AI13: Nē, nesaņēmu nekādu informāciju | AJ13: 2 | AK13: Vairumā gadījumu nesapratu, kas man jādara tālāk | AL13: Ārstam bija vienalga, empātijas trūkums | AM13: Skalbe, pardzivot, Rozā vilciens, dzivibaskoks, [personas vārds anonimizēts], Vita biedrība, es pati meklēju informāciju! | AN13: Runāt ar pacientu skaidrā valodā un ar empātiju!
A14: R010 | B14: 2026-01 | C14: 40-49 | D14: 40-49 | E14: Sieviete | F14: Augstākā izglītība (bakalaura, maģistra vai doktora grāds) | G14: Limbažu novads | H14: Vairāk nekā 3 mēneši | I14: Jā, nekavējoties | J14: Vairāk nekā 3 mēneši | K14: Jā, nekavējoties | L14: Jā, pilnībā saprotami | M14: Mani pierakstīja ģimenes ārsts/speciālists | N14: Mazāk nekā 1 nedēļa | O14: Ļoti apmierināts(-a) | P14: Valsts apmaksātā kārtībā (kvotā) | Q14: Jā, saņēmu pilnīgu un saprotamu informāciju | R14: Jā, šķita, ka viņiem bija visa informācija | S14: Jā, pilnībā saprotami | T14: 10 | U14: Ne apmierināts(-a), ne neapmierināts(-a) | V14: Jā, viss bija pieejams | W14: Speciālists bija iepriekš iepazinies ar maniem izmeklējuma rezultātiem | X14: Jā, pilnībā saprotami | Y14: Nē, man nebija šādas pieredzes | Z14: Nē, man nepiedāvāja šādu iespēju | AA14: Drīzāk nē | AB14: Noteikti nē | AC14: Noteikti jā | AD14: Noteikti nē | AE14: Atbildes bija īsas un formālas, kas radīja apjukumu un nepalīdzēja izprast manu situāciju. | AF14: Nē, nesaprotami | AG14: Nē, nemaz | AH14: Nē | AI14: Nē, nesaņēmu nekādu informāciju | AJ14: 7 | AK14: Pārsvarā sapratu, bet atsevišķi soļi nebija līdz galam skaidri | AL14: Pēc konsīlija, [ārsta vārds anonimizēts] medmāsiņa izdalīja gaitenī katrai pacientei viņas diagnozi, kur bija noteiktas stadijas utt. Tad katra gaidījām savu kārtu kad varēs ieiet pie [ārsta vārds anonimizēts] par konsīlijā nolemto. Man bija 4 stadija un es to uzzināju gaitenî.. tas bija šoks. Kad pienāca mana kārta ieiet daktera kabinetā, viņš bez jebkāda ievada man teica “jūs redzējāt”? Es saku - redzēju. Viņš “nu un viss, es vairs neesmu jūsu dakteris, tālāk runājat ar onkologu”. [personas vārds anonimizēts] mana onkoloģe ir [ārsta vārds anonimizēts] , kura ir iejūtīga, saprotoša, laipna, pacietīga, zinoša. Esmu labās rokās tagad. | AM14: Pozitīvs ir tas, ka varu lietot jaunākās zāles un Latvijā šādi medikamenti ir pieejami, manā gadījumā tie ir valsts kompensēti. | AN14: Atrast laiku pacientam, lai izstāstītu kas tagad notiks, kas jādara, kur jàiet, kas jāēd utt… jo tā ir pilnīgi jauna dzīve. Ar onkoloģiju saslimušam cilvēkam dzīve iedalās “pirms” un “pēc”.
A15: R011 | B15: 2026-01 | C15: 50-59 | D15: 40-49 | E15: Sieviete | F15: Augstākā izglītība (bakalaura, maģistra vai doktora grāds) | G15: Rīga | H15: Nesazinājos (pāriet uz nākamo jautājumu) | I15: Jā, nekavējoties | J15: 1-2 nedēļas | K15: Jā, nekavējoties | L15: Jā, pilnībā saprotami | M15: Mani pierakstīja ģimenes ārsts/speciālists | N15: 1–2 nedēļas | O15: Apmierināts(-a) | P15: Valsts apmaksātā kārtībā (kvotā) | Q15: Jā, saņēmu pilnīgu un saprotamu informāciju | R15: Jā, šķita, ka viņiem bija visa informācija | S15: Paskaidrojums nebija nepieciešams | T15: 9 | U15: Apmierināts(-a) | V15: Daļa rezultātu bija pieejama, daļa – nē | W15: Speciālists bija iepriekš iepazinies ar maniem izmeklējuma rezultātiem | X15: Jā, pilnībā saprotami | Y15: Jā, vienu reizi | Z15: Nē, man īpaši norādīja, ka neviens nevar būt klāt | AA15: Noteikti jā | AB15: Drīzāk jā | AC15: Drīzāk nē | AD15: Drīzāk jā | AE15: Es sajutu vienaldzību vai pat zināmu atturību no ārsta puses. | AF15: Jā, pilnībā saprotami | AG15: Jā, pilnībā | AH15: Jā | AI15: Jā, saņēmu visu nepieciešamo informāciju | AJ15: 9 | AK15: Pārsvarā sapratu, bet atsevišķi soļi nebija līdz galam skaidri | AL15: Ārstu un palīgpersonāla noslogotība. Pacientam, izdzirdot savu diagnozi, var rasties simts un viens, reizēm stulbs jautājums. Ārstam -speciālistam, ārstam ķīrurgam dabiski nav jāveic laikietilpīga pacienta konsultācija. Bet šāda iespēja: izrunāties ar kādu uzreiz klīnikā būtu nenovērtējāmā. Var redzēt, ka valsts onkoloģijas centru personāls dara visu, kas ir tā spēkos. Bet jāņem vērā arī laika resurss, kas acimredzot ir ļoti ierobežots personāla trūkuma dēļ. Arī mulsinājis tas, ka viens no izmeklējumiem, kas bija pieejams man manā e-veselības profilā, nebija redzams/pieejams ārstam speciālistam. Labi, ka man līdzi bija sava kopija. | AM15: Meiteņu-kuratoru un medicīnisko māsu atbalsts un atsaucība. Tik daudz, cik viņu spēkos un kompetencē - tika izskaidrots ar lielu empātiju. | AN15: Piesaistīt papildus, iespējams zemākās kvalifikācijas personālu specializētājos onko-centros, lai pacientiem dot iespēju saņemt garāku konsultāciju un atbalstu uzreiz pēc diagnozes nosaukšanas. Ķirurgiem ir jāgriež, nevis jārunā )
A16: R012 | B16: 2026-01 | C16: 50-59 | D16: 50-59 | E16: Sieviete | F16: Vidējā vai profesionālā vidējā izglītība | G16: Rīga | H16: 1-2 nedēļas | I16: Jā, nekavējoties | J16: Mazāk nekā nedēļa | K16: Jā, nekavējoties | L16: Jā, pilnībā saprotami | M16: Mani pierakstīja ģimenes ārsts/speciālists | N16: 1–2 nedēļas | O16: Apmierināts(-a) | P16: Valsts apmaksātā kārtībā (kvotā) | Q16: Jā, saņēmu pilnīgu un saprotamu informāciju | R16: Jā, šķita, ka viņiem bija visa informācija | S16: Nē, nepaskaidroja | T16: 6 | U16: Neapmierināts(-a) | V16: Jā, viss bija pieejams | W16: Nezinu / neatceros | X16: Jā, daļēji saprotami | Y16: Nē, man nebija šādas pieredzes | Z16: Nē, man nepiedāvāja šādu iespēju | AA16: Drīzāk jā | AB16: Drīzāk jā | AC16: Drīzāk jā | AD16: Drīzāk jā | AE16: Es sajutu ārsta iesaisti un ieinteresētību - ārsts centās saprotami izskaidrot diagnozi un ārstēšanas plānu. | AF16: Jā, daļēji saprotami | AG16: Jā, daļēji | AH16: Jā | AI16: Jā, saņēmu visu nepieciešamo informāciju | AJ16: 7 | AK16: Daļēji sapratu, bieži jutos apjucis(-usi) | AL16: Ķīmijterapijas ārsts īsti nevēlējās runāt par ārstēšanu. Man viss bija jāprasa pašai. | AM16: bija ātra diagnoze | AN16: Iegūstiet vairāk informācijas par savu ārstēšanu
A17: R013 | B17: 2026-01 | C17: 40-49 | D17: 40-49 | E17: Sieviete | F17: Vidējā vai profesionālā vidējā izglītība | G17: Rīga | H17: Mazāk nekā nedēļa | I17: Jā, nekavējoties | J17: Vērsos ģimenes ārsta praksē (pāriet uz nākamo jautājumu) | K17: Jā, nekavējoties | L17: Jā, pilnībā saprotami | M17: Viegli | N17: 1–2 nedēļas | O17: Apmierināts(-a) | P17: Valsts apmaksātā kārtībā (kvotā) | Q17: Jā, saņēmu pilnīgu un saprotamu informāciju | R17: Jā, šķita, ka viņiem bija visa informācija | S17: Jā, pilnībā saprotami | T17: 7 | U17: Ne apmierināts(-a), ne neapmierināts(-a) | V17: Jā, viss bija pieejams | W17: Speciālists izskatīja izmeklējuma attēlus/aprakstu manas vizītes laikā | X17: Jā, daļēji saprotami | Y17: Nē, man nebija šādas pieredzes | Z17: Nē, man nepiedāvāja šādu iespēju | AA17: Drīzāk jā | AB17: Drīzāk jā | AC17: Drīzāk jā | AD17: Drīzāk jā | AE17: Es sajutu vienaldzību vai pat zināmu atturību no ārsta puses. | AF17: Jā, daļēji saprotami | AG17: Nē, nemaz | AH17: Nē | AI17: Daļēji, informācija bija nepilnīga | AJ17: 8 | AK17: Pārsvarā sapratu, bet atsevišķi soļi nebija līdz galam skaidri | AL17: Vienaldzība no ārstu puses | AM17: Atsaucīgs med. personāls (māsiņas) | AN17: Vairākstāvu izskaidrot, iesaistīt psihologus
A18: R014 | B18: 2026-01 | C18: 40-49 | D18: 40-49 | E18: Sieviete | F18: Augstākā izglītība (bakalaura, maģistra vai doktora grāds) | G18: Ādažu novads | H18: Mazāk nekā nedēļa | I18: Jā, nekavējoties | J18: Mazāk nekā nedēļa | K18: Jā, nekavējoties | L18: Jā, pilnībā saprotami | M18: Mani pierakstīja ģimenes ārsts/speciālists | N18: Neatceros | O18: Apmierināts(-a) | P18: Valsts apmaksātā kārtībā (kvotā) | Q18: Jā, saņēmu pilnīgu un saprotamu informāciju | R18: Jā, šķita, ka viņiem bija visa informācija | S18: Jā, pilnībā saprotami | T18: 10 | U18: Apmierināts(-a) | V18: Jā, viss bija pieejams | W18: Speciālists bija iepriekš iepazinies ar maniem izmeklējuma rezultātiem | X18: Jā, pilnībā saprotami | Y18: Nē, man nebija šādas pieredzes | Z18: Nē, man nepiedāvāja šādu iespēju | AA18: Noteikti jā | AB18: Noteikti jā | AC18: Noteikti jā | AD18: Noteikti jā | AE18: Es sajutu ārsta iesaisti un ieinteresētību - ārsts centās saprotami izskaidrot diagnozi un ārstēšanas plānu. | AF18: Jā, pilnībā saprotami | AG18: Jā, pilnībā | AH18: Nē | AI18: Nē, nesaņēmu nekādu informāciju | AJ18: 10 | AK18: Pilnībā sapratu visu maršrutu un nākamos soļus | AL18: Viss bija labi, izņemot neziņu un gaidīšanu. | AM18: Atbildes ātrāk ne kā paredzēts. | AN18: Emocionāls atbalsts gaidot rezultātus.
A19: R015 | B19: 2026-01 | C19: 40-49 | D19: 40-49 | E19: Sieviete | F19: Augstākā izglītība (bakalaura, maģistra vai doktora grāds) | G19: Rīga | H19: Mazāk nekā nedēļa | I19: Jā, bet tikai pēc atkārtotas vēršanās vai ar ievērojumu kāvēšanos | J19: 1-2 nedēļas | K19: Jā, nekavējoties | L19: Nē, nesaprotami | M19: Ļoti viegli | N19: Mazāk nekā 1 nedēļa | O19: Ļoti apmierināts(-a) | P19: Valsts apmaksātā kārtībā (kvotā) | Q19: Nē, informāciju nesaņēmu | R19: Jā, šķita, ka viņiem bija visa informācija | S19: Nē, nepaskaidroja | T19: 6 | U19: Neapmierināts(-a) | V19: Jā, viss bija pieejams | W19: Speciālists izskatīja izmeklējuma attēlus/aprakstu manas vizītes laikā | X19: Jā, daļēji saprotami | Y19: Jā, vairākas reizes | Z19: Nē, man nepiedāvāja šādu iespēju | AA19: Drīzāk jā | AB19: Drīzāk nē | AC19: Drīzāk jā | AD19: Drīzāk jā | AE19: Es sajutu vienaldzību vai pat zināmu atturību no ārsta puses. | AF19: Jā, daļēji saprotami | AG19: Jā, daļēji | AH19: Nē | AI19: Nē, nesaņēmu nekādu informāciju | AJ19: 4 | AK19: Vairumā gadījumu nesapratu, kas man jādara tālāk | AL19: Nav atbildes | AM19: Nav atbildes | AN19: Nav atbildes
... A209: R205 | B209: 2026-04 | C209: 40-49 | D209: 40-49 | E209: Vīrietis | F209: Augstākā izglītība (bakalaura, maģistra vai doktora grāds) | G209: Rīga | H209: Sazinājos uzreiz ar speciālistu | I209: Jā, nekavējoties | J209: 1-2 nedēļas | K209: Jā, nekavējoties | L209: Jā, pilnībā saprotami | M209: Mani pierakstīja ģimenes ārsts/speciālists | N209: 1–2 nedēļas | O209: Apmierināts(-a) | P209: Valsts apmaksātā kārtībā (kvotā) | Q209: Jā, saņēmu pilnīgu un saprotamu informāciju | R209: Jā, šķita, ka viņiem bija visa informācija | S209: Jā, pilnībā saprotami | T209: 10 | U209: Apmierināts(-a) | V209: Jā, viss bija pieejams | W209: Speciālists izskatīja izmeklējuma attēlus/aprakstu manas vizītes laikā | X209: Jā, pilnībā saprotami | Y209: Nē, man nebija šādas pieredzes | Z209: Jā, man piedāvāja šādu iespēju | AA209: Noteikti jā | AB209: Noteikti jā | AC209: Noteikti jā | AD209: Noteikti jā | AE209: Es sajutu ārsta iesaisti un ieinteresētību - ārsts centās saprotami izskaidrot diagnozi un ārstēšanas plānu. | AF209: Jā, pilnībā saprotami | AG209: Jā, daļēji | AH209: Jā | AI209: Nē, nesaņēmu nekādu informāciju | AJ209: 8 | AK209: Pārsvarā sapratu, bet atsevišķi soļi nebija līdz galam skaidri | AL209: Nekas | AM209: Zala kordora sistema dabojas raiti | AN209: Sakuma posms ir izskaisits starp 2 specialistiem un Gimenes arstu. Bija nedaudz neskaidribas kas kur ko var nosutit jo kautko vareja tikai Gimenes arsts kautko ari Specialists aSlimica. Manuprat gan Onkologam specialistam gan gimenes arstam javar veikt visus nosutijumus u izmeklesanu pec Zala koridora tai skaita piemeram kolonoskopiju kas nav aSlimnica pieejama vajadziga apjoma. Zalais koridors darbina lieliski bet arsti bisku jaucas un norada viens uz otru, kas ko var un ko nevar nosutits. Un aSliminca Onkologija arsti strada ar 110% noslogonumu. To var just, attieksme bija perfekta bet arsts nevar stradat konstanta parslorzes rezima.
A210: R206 | B210: 2026-04 | C210: 60-69 | D210: 60-69 | E210: Sieviete | F210: Vidējā vai profesionālā vidējā izglītība | G210: Rīga | H210: Mazāk nekā nedēļa | I210: Sazinājos uzreiz ar speciālistu | J210: Neatceros | K210: Jā, nekavējoties | L210: Jā, pilnībā saprotami | M210: Ne viegli, ne grūti | N210: Vairāk nekā 3 mēneši | O210: Ne apmierināts(-a), ne neapmierināts(-a) | P210: Valsts apmaksātā kārtībā (kvotā) | Q210: Jā, saņēmu pilnīgu un saprotamu informāciju | R210: Jā, šķita, ka viņiem bija visa informācija | S210: Jā, pilnībā saprotami | T210: 1 | U210: Neapmierināts(-a) | V210: Jā, viss bija pieejams | W210: Speciālists izskatīja izmeklējuma attēlus/aprakstu manas vizītes laikā | X210: Jā, pilnībā saprotami | Y210: Nē, man nebija šādas pieredzes | Z210: Nē, man nepiedāvāja šādu iespēju | AA210: Noteikti jā | AB210: Noteikti jā | AC210: Noteikti jā | AD210: Noteikti jā | AE210: 9 | AF210: Jā, pilnībā saprotami | AG210: Jā, daļēji | AH210: Jā | AI210: Daļēji, informācija bija nepilnīga | AJ210: 4 | AK210: Daļēji sapratu, bieži jutos apjucis(-usi) | AL210: Ilgā gaidīšana visur. | AM210: Ārsta attieksme pozitiva | AN210: Risināt ātrāk nevis likt cilvēkus gaidīšanas režīmā,tā nav gripa tas ir vēzis.Un ilgā gaidīšana diemžēl pacientiem nenāk par labu.
A211: R207 | B211: 2026-04 | C211: 40-49 | D211: 40-49 | E211: Sieviete | F211: Vidējā vai profesionālā vidējā izglītība | G211: Rīga | H211: 3-4 nedēļas | I211: Jā, nekavējoties | J211: 1-3 mēneši | K211: Jā, nekavējoties | L211: Jā, pilnībā saprotami | M211: Viegli | N211: 3–4 nedēļas | O211: Apmierināts(-a) | P211: Valsts apmaksātā kārtībā (kvotā) | Q211: Jā, saņēmu pilnīgu un saprotamu informāciju | R211: Jā, šķita, ka viņiem bija visa informācija | S211: Jā, pilnībā saprotami | T211: 10 | U211: Apmierināts(-a) | V211: Daļa rezultātu bija pieejama, daļa – nē | W211: Speciālists bija iepriekš iepazinies ar maniem izmeklējuma rezultātiem | X211: Jā, pilnībā saprotami | Y211: Nē, man nebija šādas pieredzes | Z211: Nē, man nepiedāvāja šādu iespēju | AA211: Drīzāk jā | AB211: Drīzāk jā | AC211: Noteikti jā | AD211: Noteikti jā | AE211: Es sajutu ārsta iesaisti un ieinteresētību - ārsts centās saprotami izskaidrot diagnozi un ārstēšanas plānu. | AF211: Jā, pilnībā saprotami | AG211: Nē, nemaz | AH211: Jā | AI211: Jā, saņēmu visu nepieciešamo informāciju | AJ211: 10 | AK211: Pilnībā sapratu visu maršrutu un nākamos soļus | AL211: Неизвестность, ожидание. | AM211: Контакт с координаторами, дружелюбные отношение от врача до мед персонала. Отзывчивость, внимательность. | AN211: Не бояться спрашивать, и просить объяснить ещё рас если не понял.
A212: R208 | B212: 2026-04 | C212: 18-29 | D212: Līdz 18 gadiem | E212: Sieviete | F212: Vidējā vai profesionālā vidējā izglītība | G212: Rīga | H212: Mazāk nekā nedēļa | I212: Jā, bet tikai pēc atkārtotas vēršanās vai ar ievērojumu kāvēšanos | J212: Vairāk nekā 3 mēneši | K212: Jā, bet tikai pēc atkārtotas vēršanās vai ar ievērojamu kavēšanos | L212: Jā, pilnībā saprotami | M212: Ne viegli, ne grūti | N212: 1–2 nedēļas | O212: Ne apmierināts(-a), ne neapmierināts(-a) | P212: Valsts apmaksātā kārtībā (kvotā) | Q212: Jā, saņēmu pilnīgu un saprotamu informāciju | R212: Jā, šķita, ka viņiem bija visa informācija | S212: Jā, pilnībā saprotami | T212: 5 | U212: Ne apmierināts(-a), ne neapmierināts(-a) | V212: Jā, viss bija pieejams | W212: Speciālists bija iepriekš iepazinies ar maniem izmeklējuma rezultātiem | X212: Jā, pilnībā saprotami | Y212: Nē, man nebija šādas pieredzes | Z212: Jā, man piedāvāja šādu iespēju | AA212: Drīzāk jā | AB212: Drīzāk jā | AC212: Noteikti jā | AD212: Noteikti jā | AE212: Atbildes bija īsas un formālas, kas radīja apjukumu un nepalīdzēja izprast manu situāciju. | AF212: Jā, pilnībā saprotami | AG212: Jā, pilnībā | AH212: Jā | AI212: Daļēji, informācija bija nepilnīga | AJ212: 0 | AK212: Pilnībā sapratu visu maršrutu un nākamos soļus | AL212: Laiks, ko zaudēju. Jo meta ārā no slimnīcām un nepārbaudīja kārtīgi, lai atrastu cēloni. Sekojoši, diagnozi uzstādija novēloti un tikai pēc 6.mēnešiem. | AM212: Tas, ka ķīmijterapija palīdzēja | AN212: Ātrāk atklàt slimību un pārbaudīt kārtīgāk visas analīzes .
A213: R209 | B213: 2026-04 | C213: 50-59 | D213: 50-59 | E213: Sieviete | F213: Augstākā izglītība (bakalaura, maģistra vai doktora grāds) | G213: Ropažu novads | H213: Mazāk nekā nedēļa | I213: Jā, nekavējoties | J213: 1-2 nedēļas | K213: Jā, nekavējoties | L213: Jā, pilnībā saprotami | M213: Viegli | N213: 1–2 nedēļas | O213: Apmierināts(-a) | P213: Valsts apmaksātā kārtībā (kvotā) | Q213: Jā, saņēmu pilnīgu un saprotamu informāciju | R213: Jā, šķita, ka viņiem bija visa informācija | S213: Jā, pilnībā saprotami | T213: 7 | U213: Ļoti apmierināts(-a) | V213: Jā, viss bija pieejams | W213: Speciālists bija iepriekš iepazinies ar maniem izmeklējuma rezultātiem | X213: Jā, pilnībā saprotami | Y213: Nē, man nebija šādas pieredzes | Z213: Jā, man piedāvāja šādu iespēju | AA213: Drīzāk jā | AB213: Drīzāk nē | AC213: Noteikti jā | AD213: Noteikti jā | AE213: Es sajutu ārsta iesaisti un ieinteresētību - ārsts centās saprotami izskaidrot diagnozi un ārstēšanas plānu. | AF213: Jā, daļēji saprotami | AG213: Jā, daļēji | AH213: Nē | AI213: Nē, nesaņēmu nekādu informāciju | AJ213: 8 | AK213: Pilnībā sapratu visu maršrutu un nākamos soļus | AL213: Pēc pirmās diagnozes paziņošanas uzreiz būtu nepieciešams psihologa atbalsts turpat, momentā pēc vizītes. Pacients paliek šokā un pilnīgi viens tajā brīdī. Un ja seko vēl izmeklējumi, lai precizētu diagnozi un ārstēšanas plānu, tas gaidīšanas laiks, kamēr nav pilnīga skaidrība, ir vājprātīgs vienam pašam. | AM213: Viss notika ļoti ātri. Ārsti bija ļoti profesionāli un ļoti uz klientu (pacientu) orientēti, laipni, izturējās ar cieņu un atbildēja uz visiem jautājumiem. | AN213: Būtu nepieciešams izstāstīt visas iespējamās alternatīvas, tai skaitā, ja ārpus LV veic mazinvazīvākas procedūras, par to informēt. Ārsti un viņu attieksme ir lieliski, bet pārējā medicīniskā personāla attieksmē ļoti redz atšķirību no tā, kāda attieksme ir privātā klīnikā un kāda šeit. Padomju laiki vēl nav beigušies daļai personāla.
A214: R210 | B214: 2026-04 | C214: 40-49 | D214: 40-49 | E214: Sieviete | F214: Augstākā izglītība (bakalaura, maģistra vai doktora grāds) | G214: Rīga | H214: Sazinājos uzreiz ar speciālistu | I214: Jā, nekavējoties | J214: Mazāk nekā nedēļa | K214: Jā, nekavējoties | L214: Jā, pilnībā saprotami | M214: Mani pierakstīja ģimenes ārsts/speciālists | N214: Mazāk nekā 1 nedēļa | O214: Ļoti apmierināts(-a) | P214: Valsts apmaksātā kārtībā (kvotā) | Q214: Jā, saņēmu pilnīgu un saprotamu informāciju | R214: Jā, šķita, ka viņiem bija visa informācija | S214: Jā, pilnībā saprotami | T214: 10 | U214: Apmierināts(-a) | V214: Jā, viss bija pieejams | W214: Speciālists bija iepriekš iepazinies ar maniem izmeklējuma rezultātiem | X214: Jā, pilnībā saprotami | Y214: Nē, man nebija šādas pieredzes | Z214: Nē, man nepiedāvāja šādu iespēju | AA214: Noteikti jā | AB214: Noteikti jā | AC214: Noteikti jā | AD214: Noteikti jā | AE214: Es sajutu ārsta iesaisti un ieinteresētību - ārsts centās saprotami izskaidrot diagnozi un ārstēšanas plānu. | AF214: Jā, pilnībā saprotami | AG214: Jā, pilnībā | AH214: Jā | AI214: Man šāda palīdzība nebija nepieciešama | AJ214: 10 | AK214: Pilnībā sapratu visu maršrutu un nākamos soļus | AL214: . | AM214: Skaidrs konkrēts risinājums manai lietai. Skaidrs kur un kad jādodas un kā viss jārisina | AN214: Izvērtēt paša pacienta arī emocionālo stabilitāti.
A215: R211 | B215: 2026-04 | C215: 30-39 | D215: 30-39 | E215: Sieviete | F215: Augstākā izglītība (bakalaura, maģistra vai doktora grāds) | G215: Rīga | H215: 1-3 mēneši | I215: Jā, nekavējoties | J215: 1-2 nedēļas | K215: Jā, nekavējoties | L215: Jā, pilnībā saprotami | M215: Ļoti viegli | N215: 3–4 nedēļas | O215: Ļoti apmierināts(-a) | P215: Daļēji par maksu, daļēji valsts apmaksāti | Q215: Sagatavošanās nebija nepieciešama | R215: Jā, šķita, ka viņiem bija visa informācija | S215: Jā, daļēji saprotami | T215: 4 | U215: Ļoti apmierināts(-a) | V215: Jā, viss bija pieejams | W215: Speciālists bija iepriekš iepazinies ar maniem izmeklējuma rezultātiem | X215: Jā, pilnībā saprotami | Y215: Nē, man nebija šādas pieredzes | Z215: Nē, man nepiedāvāja šādu iespēju | AA215: Noteikti jā | AB215: Drīzāk jā | AC215: Noteikti jā | AD215: Noteikti jā | AE215: Es sajutu ārsta iesaisti un ieinteresētību - ārsts centās saprotami izskaidrot diagnozi un ārstēšanas plānu. | AF215: Jā, pilnībā saprotami | AG215: Jā, pilnībā | AH215: Neatceros | AI215: Jā, saņēmu visu nepieciešamo informāciju | AJ215: 10 | AK215: Pārsvarā sapratu, bet atsevišķi soļi nebija līdz galam skaidri | AL215: Nebija skaidrs par alternatīvu ārstēšanas veidu. Radiologs (vai radiologa asistents) īsti neticēja par kontrastvielas blaknēm, lai gan tādas bija. | AM215: Ātrums un speciālistu iesaiste, savstarpējā komunikācija – ārsti paši sazinājās un veica nākamos pierakstus. Ļoti laba zaļā koridora pieredze (viss būtu varējis būt vēl ātrāk, bet pati starpposmos neatrados Latvijā) | AN215: Vairāk informācijas kad, kur, kāpēc pacientiem būs jāiet. Iestādēm ievērot zaļā koridora termiņus.
A216: R212 | B216: 2026-04 | C216: 40-49 | D216: 40-49 | E216: Sieviete | F216: Augstākā izglītība (bakalaura, maģistra vai doktora grāds) | G216: Ropažu novads | H216: Sazinājos uzreiz ar speciālistu | I216: Nē, atteicās nosūtīt | J216: Sazinājos tikai ar ģimenes ārstu | K216: Sazinājos tikai ar ģimenes ārstu | L216: Nē, nesaprotami | M216: Mani pierakstīja ģimenes ārsts/speciālists | N216: 1–3 mēneši | O216: Neapmierināts(-a) | P216: Valsts apmaksātā kārtībā (kvotā) | Q216: Jā, bet informācija bija daļēja vai neskaidra | R216: Nē, šķita, ka informācija trūka | S216: Nē, nepaskaidroja | T216: 7 | U216: Neapmierināts(-a) | V216: Jā, viss bija pieejams | W216: Speciālists bija iepriekš iepazinies ar maniem izmeklējuma rezultātiem | X216: Man nesniedza paskaidrojumu, bet es to vēlētos | Y216: Nē, man nebija šādas pieredzes | Z216: Nē, man nepiedāvāja šādu iespēju | AA216: Drīzāk nē | AB216: Drīzāk jā | AC216: Drīzāk jā | AD216: Drīzāk nē | AE216: Atbildes bija īsas un formālas, kas radīja apjukumu un nepalīdzēja izprast manu situāciju. | AF216: Nē, nesaprotami | AG216: Nē, nemaz | AH216: Nē | AI216: Man šāda palīdzība nebija nepieciešama | AJ216: 6 | AK216: Vairumā gadījumu nesapratu, kas man jādara tālāk | AL216: Pastāvīga neziņa un nekādas iespējas zināt,kad būs kāda konkrēta informācija par tālākajiem soļiem | AM216: Bija sajūta, ka arstējošie ārsti dara visu iespējamo, lai man palīdzētu | AN216: Izskaidrot pēc iespējas detalizētāk, kāda būs ārstēšanās gaita/ iespējas un iespējamie scenāriji. Kaut vai aptuveni. Pastāvīga neziņa un tas, ka neviens neko nepaskaidro ir neciešami
A217: R213 | B217: 2026-04 | C217: 70-79 | D217: 60-69 | E217: Sieviete | F217: Vidējā vai profesionālā vidējā izglītība | G217: Mārupes novads | H217: 1-2 nedēļas | I217: Jā, nekavējoties | J217: 1-2 nedēļas | K217: Jā, nekavējoties | L217: Jā, pilnībā saprotami | M217: Ne viegli, ne grūti | N217: 1–3 mēneši | O217: Ne apmierināts(-a), ne neapmierināts(-a) | P217: Valsts apmaksātā kārtībā (kvotā) | Q217: Jā, saņēmu pilnīgu un saprotamu informāciju | R217: Jā, šķita, ka viņiem bija visa informācija | S217: Jā, pilnībā saprotami | T217: 10 | U217: Apmierināts(-a) | V217: Daļa rezultātu bija pieejama, daļa – nē | W217: Speciālists izskatīja izmeklējuma attēlus/aprakstu manas vizītes laikā | X217: Jā, pilnībā saprotami | Y217: Nē, man nebija šādas pieredzes | Z217: Nē, man nepiedāvāja šādu iespēju | AA217: Noteikti jā | AB217: Noteikti jā | AC217: Noteikti jā | AD217: Noteikti jā | AE217: Es sajutu ārsta iesaisti un ieinteresētību - ārsts centās saprotami izskaidrot diagnozi un ārstēšanas plānu. | AF217: Jā, pilnībā saprotami | AG217: Jā, pilnībā | AH217: Jā | AI217: Daļēji, informācija bija nepilnīga | AJ217: 9 | AK217: Daļēji sapratu, bieži jutos apjucis(-usi) | AL217: kolēģu -mediķu pozitīvs atbalsts | AM217: Dzīvibas koka psihosocialā atbalsta nometnes | AN217: Informēt par šāda veida (psihosociālo) atbalstu
A218: R214 | B218: 2026-04 | C218: 50-59 | D218: 40-49 | E218: Sieviete | F218: Augstākā izglītība (bakalaura, maģistra vai doktora grāds) | G218: Ogres novads | H218: Vairāk nekā 3 mēneši | I218: Jā, nekavējoties | J218: Vairāk nekā 3 mēneši | K218: Jā, nekavējoties | L218: Jā, pilnībā saprotami | M218: Mani pierakstīja ģimenes ārsts/speciālists | N218: 1–2 nedēļas | O218: Ne apmierināts(-a), ne neapmierināts(-a) | P218: Daļēji par maksu, daļēji valsts apmaksāti | Q218: Sagatavošanās nebija nepieciešama | R218: Jā, šķita, ka viņiem bija visa informācija | S218: Jā, pilnībā saprotami | T218: 8 | U218: Neapmierināts(-a) | V218: Jā, viss bija pieejams | W218: Speciālists izskatīja izmeklējuma attēlus/aprakstu manas vizītes laikā | X218: Jā, daļēji saprotami | Y218: Nē, man nebija šādas pieredzes | Z218: Diagnozi uzzināju pa tālruni vai e-pastā | AA218: Drīzāk jā | AB218: Drīzāk jā | AC218: Noteikti jā | AD218: Drīzāk jā | AE218: Es sajutu ārsta iesaisti un ieinteresētību - ārsts centās saprotami izskaidrot diagnozi un ārstēšanas plānu. | AF218: Jā, pilnībā saprotami | AG218: Jā, daļēji | AH218: Jā | AI218: Jā, saņēmu visu nepieciešamo informāciju | AJ218: 9 | AK218: Pilnībā sapratu visu maršrutu un nākamos soļus | AL218: Neziņa, pārāk ilga izmeklējumu rezultātu gaidīšana | AM218: Vienmēr sazvanāms kordinators, kam varēja uzdot visus neskaidros jautājumus un vērsties arī pēc psiholoģiskas palīdzības, lai vienkārši parunātos | AN218: Nevilcināties ar izmeklējumu rezultātu paziņošanu. Neziņa šajā laikā vienkārši "nogalina"!!!
A219: R215 | B219: 2026-04 | C219: 40-49 | D219: 30-39 | E219: Sieviete | F219: Vidējā vai profesionālā vidējā izglītība | G219: Aizkraukles novads | H219: Sazinājos uzreiz ar speciālistu | I219: Sazinājos uzreiz ar speciālistu | J219: 3-4 nedēļas | K219: Jā, nekavējoties | L219: Jā, pilnībā saprotami | M219: Viegli | N219: 1–2 nedēļas | O219: Ne apmierināts(-a), ne neapmierināts(-a) | P219: Valsts apmaksātā kārtībā (kvotā) | Q219: Jā, saņēmu pilnīgu un saprotamu informāciju | R219: Jā, šķita, ka viņiem bija visa informācija | S219: Jā, pilnībā saprotami | T219: 8 | U219: Apmierināts(-a) | V219: Jā, viss bija pieejams | W219: Speciālists bija iepriekš iepazinies ar maniem izmeklējuma rezultātiem | X219: Jā, daļēji saprotami | Y219: Nē, man nebija šādas pieredzes | Z219: Nē, man nepiedāvāja šādu iespēju | AA219: Drīzāk jā | AB219: Drīzāk jā | AC219: Drīzāk jā | AD219: Drīzāk jā | AE219: Es sajutu ārsta iesaisti un ieinteresētību - ārsts centās saprotami izskaidrot diagnozi un ārstēšanas plānu. | AF219: Jā, daļēji saprotami | AG219: Nē, nemaz | AH219: Nē | AI219: Nē, nesaņēmu nekādu informāciju | AJ219: 7 | AK219: Pārsvarā sapratu, bet atsevišķi soļi nebija līdz galam skaidri | AL219: Ārsta aizņemtība. Konveijera sajūta kopumā. | AM219: Personāls ļoti sirsnīgs visā onkoloģijas cemtra8,patiesi iejūtīgs. | AN219: Vairāk informācijas. Vairāk veltīt laiku pacientam.
A220: R216 | B220: 2026-04 | C220: 60-69 | D220: 50-59 | E220: Vīrietis | F220: Augstākā izglītība (bakalaura, maģistra vai doktora grāds) | G220: Rīga | H220: Sazinājos uzreiz ar speciālistu | I220: Jā, nekavējoties | J220: Mazāk nekā nedēļa | K220: Jā, nekavējoties | L220: Jā, pilnībā saprotami | M220: Viegli | N220: 1–2 nedēļas | O220: Apmierināts(-a) | P220: Valsts apmaksātā kārtībā (kvotā) | Q220: Jā, saņēmu pilnīgu un saprotamu informāciju | R220: Jā, šķita, ka viņiem bija visa informācija | S220: Jā, pilnībā saprotami | T220: 8 | U220: Apmierināts(-a) | V220: Jā, viss bija pieejams | W220: Speciālists bija iepriekš iepazinies ar maniem izmeklējuma rezultātiem | X220: Jā, pilnībā saprotami | Y220: Nē, man nebija šādas pieredzes | Z220: Nē, man nepiedāvāja šādu iespēju | AA220: Drīzāk jā | AB220: Noteikti jā | AC220: Noteikti jā | AD220: Noteikti jā | AE220: Es sajutu ārsta iesaisti un ieinteresētību - ārsts centās saprotami izskaidrot diagnozi un ārstēšanas plānu. | AF220: Jā, daļēji saprotami | AG220: Jā, pilnībā | AH220: Nē | AI220: Man šāda palīdzība nebija nepieciešama | AJ220: 7 | AK220: Vairumā gadījumu nesapratu, kas man jādara tālāk | AL220: nebija saprotams, kādas sekas var būt | AM220: ātra speciālistu iesaistīšanās | AN220: Labāk izskaidrot ārstēšanās iespējas un iespējamas sekas
A221: R217 | B221: 2026-04 | C221: 50-59 | D221: 50-59 | E221: Sieviete | F221: Augstākā izglītība (bakalaura, maģistra vai doktora grāds) | G221: Rīga | H221: Mazāk nekā nedēļa | I221: Jā, nekavējoties | J221: Sazinājos tikai ar ģimenes ārstu | K221: Jā, nekavējoties | L221: Jā, pilnībā saprotami | M221: Mani pierakstīja ģimenes ārsts/speciālists | N221: 3–4 nedēļas | O221: Apmierināts(-a) | P221: Valsts apmaksātā kārtībā (kvotā) | Q221: Jā, saņēmu pilnīgu un saprotamu informāciju | R221: Jā, šķita, ka viņiem bija visa informācija | S221: Jā, pilnībā saprotami | T221: 9 | U221: Apmierināts(-a) | V221: Jā, viss bija pieejams | W221: Speciālists bija iepriekš iepazinies ar maniem izmeklējuma rezultātiem | X221: Jā, daļēji saprotami | Y221: Nē, man nebija šādas pieredzes | Z221: Nē, man nepiedāvāja šādu iespēju | AA221: Drīzāk jā | AB221: Drīzāk jā | AC221: Drīzāk jā | AD221: Drīzāk jā | AE221: Es sajutu ārsta iesaisti un ieinteresētību - ārsts centās saprotami izskaidrot diagnozi un ārstēšanas plānu. | AF221: Jā, daļēji saprotami | AG221: Jā, daļēji | AH221: Jā | AI221: Man šāda palīdzība nebija nepieciešama | AJ221: 7 | AK221: Pārsvarā sapratu, bet atsevišķi soļi nebija līdz galam skaidri | AL221: Pieraksts pie speciālista | AM221: Ģimenes ārsta profesionalitāte | AN221: Vienkāršā valodā izskaidrot notiekošo
A222: R218 | B222: 2026-04 | C222: 50-59 | D222: 50-59 | E222: Sieviete | F222: Augstākā izglītība (bakalaura, maģistra vai doktora grāds) | G222: Rīga | H222: Sazinājos uzreiz ar speciālistu | I222: Jā, nekavējoties | J222: 1-2 nedēļas | K222: Jā, nekavējoties | L222: Jā, pilnībā saprotami | M222: Ne viegli, ne grūti | N222: 1–2 nedēļas | O222: Apmierināts(-a) | P222: Valsts apmaksātā kārtībā (kvotā) | Q222: Jā, saņēmu pilnīgu un saprotamu informāciju | R222: Jā, šķita, ka viņiem bija visa informācija | S222: Jā, pilnībā saprotami | T222: 7 | U222: Apmierināts(-a) | V222: Jā, viss bija pieejams | W222: Speciālists izskatīja izmeklējuma attēlus/aprakstu manas vizītes laikā | X222: Jā, pilnībā saprotami | Y222: Jā, vienu reizi | Z222: Nē, man nepiedāvāja šādu iespēju | AA222: Drīzāk jā | AB222: Drīzāk jā | AC222: Drīzāk jā | AD222: Drīzāk jā | AE222: Atbildes bija īsas un formālas, kas radīja apjukumu un nepalīdzēja izprast manu situāciju. | AF222: Jā, daļēji saprotami | AG222: Jā, pilnībā | AH222: Nē | AI222: Jā, saņēmu visu nepieciešamo informāciju | AJ222: 5 | AK222: Pārsvarā sapratu, bet atsevišķi soļi nebija līdz galam skaidri | AL222: Veicu ģenētikas testu un man šo testu nevarēja /negribēja izskaidrot,. | AM222: Kad piesaistīju palīdzību no medicīnā pazīstamiem ārstiem, tad tika pozitīvi veidoties saskarsme. | AN222: Uzdrīkstēšanās no ārstējošiem ārstiem lielāku ieinteresētību , medicīnas māsas ir ļoti profesionālas un sirsnīgas.
... A276: R272 | B276: 2026-06 | C276: 50-59 | D276: 50-59 | E276: Sieviete | F276: Augstākā izglītība (bakalaura, maģistra vai doktora grāds) | G276: Rīga | H276: Sazinājos uzreiz ar speciālistu | I276: Jā, nekavējoties | J276: 1-3 mēneši | K276: Jā, nekavējoties | L276: Jā, daļēji saprotami | M276: Grūti | N276: 1–3 mēneši | O276: Ne apmierināts(-a), ne neapmierināts(-a) | P276: Valsts apmaksātā kārtībā (kvotā) | Q276: Jā, bet informācija bija daļēja vai neskaidra | R276: Jā, šķita, ka viņiem bija visa informācija | S276: Jā, daļēji saprotami | T276: 6 | U276: Ne apmierināts(-a), ne neapmierināts(-a) | V276: Daļa rezultātu bija pieejama, daļa – nē | W276: Speciālists izskatīja izmeklējuma attēlus/aprakstu manas vizītes laikā | X276: Nē, es nesapratu skaidrojumu | Y276: Nē, man nebija šādas pieredzes | Z276: Nē, man nepiedāvāja šādu iespēju | AA276: Drīzāk jā | AB276: Drīzāk nē | AC276: Drīzāk nē | AD276: Drīzāk jā | AE276: Atbildes bija īsas un formālas, kas radīja apjukumu un nepalīdzēja izprast manu situāciju. | AF276: Jā, daļēji saprotami | AG276: Jā, daļēji | AH276: Neatceros | AI276: Nē, nesaņēmu nekādu informāciju | AJ276: 6 | AK276: Daļēji sapratu, bieži jutos apjucis(-usi) | AL276: Sajūta ,ka esi vientuļš | AM276: Ķirurgs | AN276: Klāt jābūt psihologam ,īpaši paša sākuma .Trukst speciālistu ,kad notiek staru terapija

Sheet Statistikas kopsavilkums
A1: STATISTIKAS KOPSAVILKUMS
A4: Derīgie respondenti | D4: Analizētie datu lauki | G4: Aptaujas sākums | J4: Aptaujas beigas
A5: 272 | D5: 39 | G5: 06.11.2025 | J5: 01.06.2026
A8: Galvenie aptaujas rezultāti
A9: Rādītājs | B9: Rezultāts | C9: Bāze / piezīme | G9: Rādītājs | H9: %
A10: Līdz speciālistam gaidīja ≥ 1 mēnesi | B10: 0.33455882 | C10: 91 no 272 | G10: ≥1 mēnesis līdz speciālistam | H10: 33.455882
A11: Radioloģisko izmeklējumu gaidīja ≥ 1 mēnesi | B11: 0.20817844 | C11: 56 no 269 | G11: ≥1 mēnesis līdz izmeklējumam | H11: 20.817844
A12: Pozitīvi vērtēja gaidīšanas ilgumu līdz izmeklējumam | B12: 0.58088235 | C12: 158 no 272 | G12: Privāts/jaukts finansējums | H12: 31.226766
A13: Izmeklējums privāti vai daļēji par maksu | B13: 0.31226766 | C13: 84 no 269 | G13: Rezultātu pieejamības problēmas | H13: 16.911765
A14: Pilnīga un saprotama sagatavošanās informācija | B14: 0.78676471 | C14: 214 no 272 | G14: Atkārtoti izmeklējumi | H14: 18.382353
A15: Radioloģijas personālam bija visa nepieciešamā informācija | B15: 0.81617647 | C15: 222 no 272 | G15: Atbalsta persona piedāvāta | H15: 21.323529
A16: Radioloģijas personāla iejūtība — vidējais vērtējums | B16: 8.3 | C16: 1–10 skala | G16: Pilnībā saprata maršrutu | H16: 34.944238
A17: Izmeklējuma rezultāti ārstam pilnībā pieejami | B17: 0.82352941 | C17: 224 no 272
A18: Atkārtota radioloģiska izmeklējuma pieredze | B18: 0.18382353 | C18: 50 no 272
A19: Atbalsta personas iespēja tika piedāvāta | B19: 0.21323529 | C19: 58 no 272
A20: Saņemta informācija, kur vērsties papildjautājumiem | B20: 0.39705882 | C20: 108 no 272
A21: Kopējais aprūpes vērtējums — vidējais | B21: 7.1 | C21: 0–10 skala
A22: Pilnībā saprata visu pacienta maršrutu | B22: 0.34944238 | C22: 94 no 269
A23: Pilnībā vai pārsvarā saprata pacienta maršrutu | B23: 0.64312268 | C23: 173 no 269
A26: Atbilžu pilnīgums
A27: Jautājums | B27: Atbilžu skaits | C27: Trūkstošās atbildes | D27: Galvenais rezultāts | E27: Rādītājs
A28: Aptaujas mēnesis | B28: 272 | C28: 0 | D28: 2026-04 | E28: 126 (46.3 %)
A29: Pašreizējā vecuma grupa | B29: 272 | C29: 0 | D29: 50-59 | E29: 96 (35.3 %)
A30: Vecuma grupa diagnozes laikā | B30: 269 | C30: 3 | D30: 40-49 | E30: 82 (30.5 %)
A31: Dzimums | B31: 272 | C31: 0 | D31: Sieviete | E31: 237 (87.1 %)
A32: Izglītība | B32: 272 | C32: 0 | D32: Augstākā izglītība (bakalaura, maģistra vai doktora grāds) | E32: 168 (61.8 %)
A33: Dzīvesvieta | B33: 272 | C33: 0 | D33: Rīga | E33: 95 (34.9 %)
A34: Laiks līdz ģimenes ārstam | B34: 272 | C34: 0 | D34: Sazinājos uzreiz ar speciālistu | E34: 87 (32.0 %)
A35: Ģimenes ārsta reakcija | B35: 269 | C35: 3 | D35: Jā, nekavējoties | E35: 164 (77,4 %)
A36: Laiks līdz speciālistam | B36: 272 | C36: 0 | D36: 1-2 nedēļas | E36: 65 (23.9 %)
A37: Speciālista reakcija | B37: 269 | C37: 3 | D37: Jā, nekavējoties | E37: 222 (85,7 %)
A38: Nosūtījuma skaidrojums | B38: 272 | C38: 0 | D38: Jā, pilnībā saprotami | E38: 202 (74.3 %)
A39: Pierakstīšanās grūtības | B39: 272 | C39: 0 | D39: Mani pierakstīja ģimenes ārsts/speciālists | E39: 87 (32.0 %)
... A63: Pacienta ceļa skaidrība | B63: 269 | C63: 3 | D63: Pilnībā sapratu visu maršrutu un nākamos soļus | E63: 94 (34.9 %)
A65: Datu avots: Pacientu pieredzes aptauja Nr. 1 “Ceļš līdz diagnozei”, n=272, 2025–2026.

Sheet Respondentu raksturojums
A1: RESPONDENTU RAKSTUROJUMS
A4: Respondentu pašreizējais vecums
A5: Atbilde | B5: n | C5: %
A6: 18-29 | B6: =COUNTIF('Anonimizēta aptaujas datu kopa'!$C$5:$C$276,A6) -> 6 | C6: =IF(COUNTA('Anonimizēta aptaujas datu kopa'!$C$5:$C$276)=0,0,B6/COUNTA('Anonimizēta aptaujas datu kopa'!$C$5:$C$276)) -> 0.022058824
A7: 30-39 | B7: =COUNTIF('Anonimizēta aptaujas datu kopa'!$C$5:$C$276,A7) -> 26 | C7: =IF(COUNTA('Anonimizēta aptaujas datu kopa'!$C$5:$C$276)=0,0,B7/COUNTA('Anonimizēta aptaujas datu kopa'!$C$5:$C$276)) -> 0.095588235
A8: 40-49 | B8: =COUNTIF('Anonimizēta aptaujas datu kopa'!$C$5:$C$276,A8) -> 64 | C8: =IF(COUNTA('Anonimizēta aptaujas datu kopa'!$C$5:$C$276)=0,0,B8/COUNTA('Anonimizēta aptaujas datu kopa'!$C$5:$C$276)) -> 0.23529412
A9: 50-59 | B9: =COUNTIF('Anonimizēta aptaujas datu kopa'!$C$5:$C$276,A9) -> 96 | C9: =IF(COUNTA('Anonimizēta aptaujas datu kopa'!$C$5:$C$276)=0,0,B9/COUNTA('Anonimizēta aptaujas datu kopa'!$C$5:$C$276)) -> 0.35294118
A10: 60-69 | B10: =COUNTIF('Anonimizēta aptaujas datu kopa'!$C$5:$C$276,A10) -> 56 | C10: =IF(COUNTA('Anonimizēta aptaujas datu kopa'!$C$5:$C$276)=0,0,B10/COUNTA('Anonimizēta aptaujas datu kopa'!$C$5:$C$276)) -> 0.20588235
A11: 70-79 | B11: =COUNTIF('Anonimizēta aptaujas datu kopa'!$C$5:$C$276,A11) -> 23 | C11: =IF(COUNTA('Anonimizēta aptaujas datu kopa'!$C$5:$C$276)=0,0,B11/COUNTA('Anonimizēta aptaujas datu kopa'!$C$5:$C$276)) -> 0.084558824
A12: 80+ | B12: =COUNTIF('Anonimizēta aptaujas datu kopa'!$C$5:$C$276,A12) -> 1 | C12: =IF(COUNTA('Anonimizēta aptaujas datu kopa'!$C$5:$C$276)=0,0,B12/COUNTA('Anonimizēta aptaujas datu kopa'!$C$5:$C$276)) -> 0.0036764706
A15: Vecums diagnozes noteikšanas laikā
A16: Atbilde | B16: n | C16: %
A17: Līdz 18 gadiem | B17: =COUNTIF('Anonimizēta aptaujas datu kopa'!$D$5:$D$276,A17) -> 2 | C17: =IF(COUNTA('Anonimizēta aptaujas datu kopa'!$D$5:$D$276)=0,0,B17/COUNTA('Anonimizēta aptaujas datu kopa'!$D$5:$D$276)) -> 0.0074349442
A18: 18-29 | B18: =COUNTIF('Anonimizēta aptaujas datu kopa'!$D$5:$D$276,A18) -> 6 | C18: =IF(COUNTA('Anonimizēta aptaujas datu kopa'!$D$5:$D$276)=0,0,B18/COUNTA('Anonimizēta aptaujas datu kopa'!$D$5:$D$276)) -> 0.022304833
A19: 30-39 | B19: =COUNTIF('Anonimizēta aptaujas datu kopa'!$D$5:$D$276,A19) -> 41 | C19: =IF(COUNTA('Anonimizēta aptaujas datu kopa'!$D$5:$D$276)=0,0,B19/COUNTA('Anonimizēta aptaujas datu kopa'!$D$5:$D$276)) -> 0.15241636
A20: 40-49 | B20: =COUNTIF('Anonimizēta aptaujas datu kopa'!$D$5:$D$276,A20) -> 82 | C20: =IF(COUNTA('Anonimizēta aptaujas datu kopa'!$D$5:$D$276)=0,0,B20/COUNTA('Anonimizēta aptaujas datu kopa'!$D$5:$D$276)) -> 0.30483271
A21: 50-59 | B21: =COUNTIF('Anonimizēta aptaujas datu kopa'!$D$5:$D$276,A21) -> 80 | C21: =IF(COUNTA('Anonimizēta aptaujas datu kopa'!$D$5:$D$276)=0,0,B21/COUNTA('Anonimizēta aptaujas datu kopa'!$D$5:$D$276)) -> 0.29739777
A22: 60-69 | B22: =COUNTIF('Anonimizēta aptaujas datu kopa'!$D$5:$D$276,A22) -> 47 | C22: =IF(COUNTA('Anonimizēta aptaujas datu kopa'!$D$5:$D$276)=0,0,B22/COUNTA('Anonimizēta aptaujas datu kopa'!$D$5:$D$276)) -> 0.17472119
A23: 70-79 | B23: =COUNTIF('Anonimizēta aptaujas datu kopa'!$D$5:$D$276,A23) -> 11 | C23: =IF(COUNTA('Anonimizēta aptaujas datu kopa'!$D$5:$D$276)=0,0,B23/COUNTA('Anonimizēta aptaujas datu kopa'!$D$5:$D$276)) -> 0.040892193
A26: Respondentu dzimums
A27: Atbilde | B27: n | C27: %
A28: Sieviete | B28: =COUNTIF('Anonimizēta aptaujas datu kopa'!$E$5:$E$276,A28) -> 237 | C28: =IF(COUNTA('Anonimizēta aptaujas datu kopa'!$E$5:$E$276)=0,0,B28/COUNTA('Anonimizēta aptaujas datu kopa'!$E$5:$E$276)) -> 0.87132353
A29: Vīrietis | B29: =COUNTIF('Anonimizēta aptaujas datu kopa'!$E$5:$E$276,A29) -> 34 | C29: =IF(COUNTA('Anonimizēta aptaujas datu kopa'!$E$5:$E$276)=0,0,B29/COUNTA('Anonimizēta aptaujas datu kopa'!$E$5:$E$276)) -> 0.125
A30: Cits / Vēlos neatbildēt | B30: =COUNTIF('Anonimizēta aptaujas datu kopa'!$E$5:$E$276,A30) -> 1 | C30: =IF(COUNTA('Anonimizēta aptaujas datu kopa'!$E$5:$E$276)=0,0,B30/COUNTA('Anonimizēta aptaujas datu kopa'!$E$5:$E$276)) -> 0.0036764706
A33: Respondentu izglītība
A34: Atbilde | B34: n | C34: %
A35: Pamatizglītība | B35: =COUNTIF('Anonimizēta aptaujas datu kopa'!$F$5:$F$276,A35) -> 8 | C35: =IF(COUNTA('Anonimizēta aptaujas datu kopa'!$F$5:$F$276)=0,0,B35/COUNTA('Anonimizēta aptaujas datu kopa'!$F$5:$F$276)) -> 0.029411765
A36: Vidējā vai profesionālā vidējā izglītība | B36: =COUNTIF('Anonimizēta aptaujas datu kopa'!$F$5:$F$276,A36) -> 96 | C36: =IF(COUNTA('Anonimizēta aptaujas datu kopa'!$F$5:$F$276)=0,0,B36/COUNTA('Anonimizēta aptaujas datu kopa'!$F$5:$F$276)) -> 0.35294118
A37: Augstākā izglītība (bakalaura, maģistra vai doktora grāds) | B37: =COUNTIF('Anonimizēta aptaujas datu kopa'!$F$5:$F$276,A37) -> 168 | C37: =IF(COUNTA('Anonimizēta aptaujas datu kopa'!$F$5:$F$276)=0,0,B37/COUNTA('Anonimizēta aptaujas datu kopa'!$F$5:$F$276)) -> 0.61764706
A40: Biežāk norādītās dzīvesvietas
A41: Dzīvesvieta | B41: n | C41: %
A42: Rīga | B42: =COUNTIF('Anonimizēta aptaujas datu kopa'!$G$5:$G$276,A42) -> 95 | C42: =B42/COUNTA('Anonimizēta aptaujas datu kopa'!$G$5:$G$276) -> 0.34926471
A43: Ogres novads | B43: =COUNTIF('Anonimizēta aptaujas datu kopa'!$G$5:$G$276,A43) -> 15 | C43: =B43/COUNTA('Anonimizēta aptaujas datu kopa'!$G$5:$G$276) -> 0.055147059
A44: Cēsu novads | B44: =COUNTIF('Anonimizēta aptaujas datu kopa'!$G$5:$G$276,A44) -> 14 | C44: =B44/COUNTA('Anonimizēta aptaujas datu kopa'!$G$5:$G$276) -> 0.051470588
A45: Liepāja | B45: =COUNTIF('Anonimizēta aptaujas datu kopa'!$G$5:$G$276,A45) -> 14 | C45: =B45/COUNTA('Anonimizēta aptaujas datu kopa'!$G$5:$G$276) -> 0.051470588
A46: Ādažu novads | B46: =COUNTIF('Anonimizēta aptaujas datu kopa'!$G$5:$G$276,A46) -> 11 | C46: =B46/COUNTA('Anonimizēta aptaujas datu kopa'!$G$5:$G$276) -> 0.040441176
A47: Mārupes novads | B47: =COUNTIF('Anonimizēta aptaujas datu kopa'!$G$5:$G$276,A47) -> 9 | C47: =B47/COUNTA('Anonimizēta aptaujas datu kopa'!$G$5:$G$276) -> 0.033088235
A48: Kuldīgas novads | B48: =COUNTIF('Anonimizēta aptaujas datu kopa'!$G$5:$G$276,A48) -> 9 | C48: =B48/COUNTA('Anonimizēta aptaujas datu kopa'!$G$5:$G$276) -> 0.033088235
A49: Daugavpils | B49: =COUNTIF('Anonimizēta aptaujas datu kopa'!$G$5:$G$276,A49) -> 8 | C49: =B49/COUNTA('Anonimizēta aptaujas datu kopa'!$G$5:$G$276) -> 0.029411765
A50: Jēkabpils novads | B50: =COUNTIF('Anonimizēta aptaujas datu kopa'!$G$5:$G$276,A50) -> 7 | C50: =B50/COUNTA('Anonimizēta aptaujas datu kopa'!$G$5:$G$276) -> 0.025735294
A51: Ropažu novads | B51: =COUNTIF('Anonimizēta aptaujas datu kopa'!$G$5:$G$276,A51) -> 7 | C51: =B51/COUNTA('Anonimizēta aptaujas datu kopa'!$G$5:$G$276) -> 0.025735294
A54: Datu avots: Pacientu pieredzes aptauja Nr. 1 “Ceļš līdz diagnozei”, n=272, 2025–2026.

Sheet Pacienta ceļš un nosūtījums
A1: PACIENTA CEĻŠ LĪDZ NOSŪTĪJUMAM UN NOSŪTĪJUMU KVALITĀTE
A4: Laiks no pirmajām aizdomām līdz saziņai ar ģimenes ārstu
A5: Atbilde | B5: n | C5: %
A6: Mazāk nekā nedēļa | B6: =COUNTIF('Anonimizēta aptaujas datu kopa'!$H$5:$H$276,A6) -> 44 | C6: =IF(COUNTA('Anonimizēta aptaujas datu kopa'!$H$5:$H$276)=0,0,B6/COUNTA('Anonimizēta aptaujas datu kopa'!$H$5:$H$276)) -> 0.16176471
A7: 1-2 nedēļas | B7: =COUNTIF('Anonimizēta aptaujas datu kopa'!$H$5:$H$276,A7) -> 29 | C7: =IF(COUNTA('Anonimizēta aptaujas datu kopa'!$H$5:$H$276)=0,0,B7/COUNTA('Anonimizēta aptaujas datu kopa'!$H$5:$H$276)) -> 0.10661765
A8: 3-4 nedēļas | B8: =COUNTIF('Anonimizēta aptaujas datu kopa'!$H$5:$H$276,A8) -> 23 | C8: =IF(COUNTA('Anonimizēta aptaujas datu kopa'!$H$5:$H$276)=0,0,B8/COUNTA('Anonimizēta aptaujas datu kopa'!$H$5:$H$276)) -> 0.084558824
A9: 1-3 mēneši | B9: =COUNTIF('Anonimizēta aptaujas datu kopa'!$H$5:$H$276,A9) -> 34 | C9: =IF(COUNTA('Anonimizēta aptaujas datu kopa'!$H$5:$H$276)=0,0,B9/COUNTA('Anonimizēta aptaujas datu kopa'!$H$5:$H$276)) -> 0.125
A10: Vairāk nekā 3 mēneši | B10: =COUNTIF('Anonimizēta aptaujas datu kopa'!$H$5:$H$276,A10) -> 30 | C10: =IF(COUNTA('Anonimizēta aptaujas datu kopa'!$H$5:$H$276)=0,0,B10/COUNTA('Anonimizēta aptaujas datu kopa'!$H$5:$H$276)) -> 0.11029412
A11: Sazinājos uzreiz ar speciālistu | B11: =COUNTIF('Anonimizēta aptaujas datu kopa'!$H$5:$H$276,A11) -> 87 | C11: =IF(COUNTA('Anonimizēta aptaujas datu kopa'!$H$5:$H$276)=0,0,B11/COUNTA('Anonimizēta aptaujas datu kopa'!$H$5:$H$276)) -> 0.31985294
A12: Neatceros | B12: =COUNTIF('Anonimizēta aptaujas datu kopa'!$H$5:$H$276,A12) -> 18 | C12: =IF(COUNTA('Anonimizēta aptaujas datu kopa'!$H$5:$H$276)=0,0,B12/COUNTA('Anonimizēta aptaujas datu kopa'!$H$5:$H$276)) -> 0.066176471
A13: Nesazinājos (pāriet uz nākamo jautājumu) | B13: =COUNTIF('Anonimizēta aptaujas datu kopa'!$H$5:$H$276,A13) -> 7 | C13: =IF(COUNTA('Anonimizēta aptaujas datu kopa'!$H$5:$H$276)=0,0,B13/COUNTA('Anonimizēta aptaujas datu kopa'!$H$5:$H$276)) -> 0.025735294
A16: Ģimenes ārsta reakcija
A17: Atbilde | B17: n | C17: %
A18: Jā, nekavējoties | B18: =COUNTIF('Anonimizēta aptaujas datu kopa'!$I$5:$I$276,A18) -> 164 | C18: 0.77358491
A19: Jā, bet tikai pēc atkārtotas vēršanās vai ar ievērojumu kāvēšanos | B19: =COUNTIF('Anonimizēta aptaujas datu kopa'!$I$5:$I$276,A19) -> 29 | C19: 0.13679245
A20: Nē, atteicās nosūtīt | B20: =COUNTIF('Anonimizēta aptaujas datu kopa'!$I$5:$I$276,A20) -> 13 | C20: 0.061320755
A21: Grūti atbildēt / neatceros | B21: =COUNTIF('Anonimizēta aptaujas datu kopa'!$I$5:$I$276,A21) -> 6 | C21: 0.028301887
A22: Sazinājos uzreiz ar speciālistu | B22: =COUNTIF('Anonimizēta aptaujas datu kopa'!$I$5:$I$276,A22) -> 57
A25: Laiks no pirmajām aizdomām līdz speciālista apmeklējumam
A26: Atbilde | B26: n | C26: %
A27: Mazāk nekā nedēļa | B27: =COUNTIF('Anonimizēta aptaujas datu kopa'!$J$5:$J$276,A27) -> 46 | C27: =IF(COUNTA('Anonimizēta aptaujas datu kopa'!$J$5:$J$276)=0,0,B27/COUNTA('Anonimizēta aptaujas datu kopa'!$J$5:$J$276)) -> 0.16911765
A28: 1-2 nedēļas | B28: =COUNTIF('Anonimizēta aptaujas datu kopa'!$J$5:$J$276,A28) -> 65 | C28: =IF(COUNTA('Anonimizēta aptaujas datu kopa'!$J$5:$J$276)=0,0,B28/COUNTA('Anonimizēta aptaujas datu kopa'!$J$5:$J$276)) -> 0.23897059
A29: 3-4 nedēļas | B29: =COUNTIF('Anonimizēta aptaujas datu kopa'!$J$5:$J$276,A29) -> 35 | C29: =IF(COUNTA('Anonimizēta aptaujas datu kopa'!$J$5:$J$276)=0,0,B29/COUNTA('Anonimizēta aptaujas datu kopa'!$J$5:$J$276)) -> 0.12867647
A30: 1-3 mēneši | B30: =COUNTIF('Anonimizēta aptaujas datu kopa'!$J$5:$J$276,A30) -> 51 | C30: =IF(COUNTA('Anonimizēta aptaujas datu kopa'!$J$5:$J$276)=0,0,B30/COUNTA('Anonimizēta aptaujas datu kopa'!$J$5:$J$276)) -> 0.1875
A31: Vairāk nekā 3 mēneši | B31: =COUNTIF('Anonimizēta aptaujas datu kopa'!$J$5:$J$276,A31) -> 40 | C31: =IF(COUNTA('Anonimizēta aptaujas datu kopa'!$J$5:$J$276)=0,0,B31/COUNTA('Anonimizēta aptaujas datu kopa'!$J$5:$J$276)) -> 0.14705882
A32: Vērsos ģimenes ārsta praksē (pāriet uz nākamo jautājumu) | B32: =COUNTIF('Anonimizēta aptaujas datu kopa'!$J$5:$J$276,A32) -> 3 | C32: =IF(COUNTA('Anonimizēta aptaujas datu kopa'!$J$5:$J$276)=0,0,B32/COUNTA('Anonimizēta aptaujas datu kopa'!$J$5:$J$276)) -> 0.011029412
A33: Sazinājos tikai ar ģimenes ārstu | B33: =COUNTIF('Anonimizēta aptaujas datu kopa'!$J$5:$J$276,A33) -> 21 | C33: =IF(COUNTA('Anonimizēta aptaujas datu kopa'!$J$5:$J$276)=0,0,B33/COUNTA('Anonimizēta aptaujas datu kopa'!$J$5:$J$276)) -> 0.077205882
A34: Neatceros | B34: =COUNTIF('Anonimizēta aptaujas datu kopa'!$J$5:$J$276,A34) -> 11 | C34: =IF(COUNTA('Anonimizēta aptaujas datu kopa'!$J$5:$J$276)=0,0,B34/COUNTA('Anonimizēta aptaujas datu kopa'!$J$5:$J$276)) -> 0.040441176
A37: Speciālista reakcija
A38: Atbilde | B38: n | C38: %
A39: Jā, nekavējoties | B39: =COUNTIF('Anonimizēta aptaujas datu kopa'!$K$5:$K$276,A39) -> 222 | C39: 0.85714286
A40: Jā, bet tikai pēc atkārtotas vēršanās vai ar ievērojamu kavēšanos | B40: =COUNTIF('Anonimizēta aptaujas datu kopa'!$K$5:$K$276,A40) -> 24 | C40: 0.092664093
A41: Nē, atteicās nosūtīt | B41: =COUNTIF('Anonimizēta aptaujas datu kopa'!$K$5:$K$276,A41) -> 6 | C41: 0.023166023
A42: Grūti atbildēt / neatceros | B42: =COUNTIF('Anonimizēta aptaujas datu kopa'!$K$5:$K$276,A42) -> 7 | C42: 0.027027027
A43: Sazinājos tikai ar ģimenes ārstu | B43: =COUNTIF('Anonimizēta aptaujas datu kopa'!$K$5:$K$276,A43) -> 10
A46: Nosūtījuma nepieciešamības skaidrojums pacientam
A47: Atbilde | B47: n | C47: %
A48: Jā, pilnībā saprotami | B48: =COUNTIF('Anonimizēta aptaujas datu kopa'!$L$5:$L$276,A48) -> 202 | C48: =IF(COUNTA('Anonimizēta aptaujas datu kopa'!$L$5:$L$276)=0,0,B48/COUNTA('Anonimizēta aptaujas datu kopa'!$L$5:$L$276)) -> 0.74264706
A49: Jā, daļēji saprotami | B49: =COUNTIF('Anonimizēta aptaujas datu kopa'!$L$5:$L$276,A49) -> 55 | C49: =IF(COUNTA('Anonimizēta aptaujas datu kopa'!$L$5:$L$276)=0,0,B49/COUNTA('Anonimizēta aptaujas datu kopa'!$L$5:$L$276)) -> 0.20220588
A50: Nē, nesaprotami | B50: =COUNTIF('Anonimizēta aptaujas datu kopa'!$L$5:$L$276,A50) -> 15 | C50: =IF(COUNTA('Anonimizēta aptaujas datu kopa'!$L$5:$L$276)=0,0,B50/COUNTA('Anonimizēta aptaujas datu kopa'!$L$5:$L$276)) -> 0.055147059
A53: Datu avots: Pacientu pieredzes aptauja Nr. 1 “Ceļš līdz diagnozei”, n=272, 2025–2026.

Sheet Radioloģijas pieejamība
A1: RADIOLOĢISKO IZMEKLĒJUMU PIEEJAMĪBA UN GAIDĪŠANAS LAIKS
A4: Pierakstīšanās uz radioloģisko izmeklējumu
A5: Atbilde | B5: n | C5: %
A6: Ļoti viegli | B6: =COUNTIF('Anonimizēta aptaujas datu kopa'!$M$5:$M$276,A6) -> 34 | C6: =IF(COUNTA('Anonimizēta aptaujas datu kopa'!$M$5:$M$276)=0,0,B6/COUNTA('Anonimizēta aptaujas datu kopa'!$M$5:$M$276)) -> 0.125
A7: Viegli | B7: =COUNTIF('Anonimizēta aptaujas datu kopa'!$M$5:$M$276,A7) -> 51 | C7: =IF(COUNTA('Anonimizēta aptaujas datu kopa'!$M$5:$M$276)=0,0,B7/COUNTA('Anonimizēta aptaujas datu kopa'!$M$5:$M$276)) -> 0.1875
A8: Ne viegli, ne grūti | B8: =COUNTIF('Anonimizēta aptaujas datu kopa'!$M$5:$M$276,A8) -> 44 | C8: =IF(COUNTA('Anonimizēta aptaujas datu kopa'!$M$5:$M$276)=0,0,B8/COUNTA('Anonimizēta aptaujas datu kopa'!$M$5:$M$276)) -> 0.16176471
A9: Grūti | B9: =COUNTIF('Anonimizēta aptaujas datu kopa'!$M$5:$M$276,A9) -> 37 | C9: =IF(COUNTA('Anonimizēta aptaujas datu kopa'!$M$5:$M$276)=0,0,B9/COUNTA('Anonimizēta aptaujas datu kopa'!$M$5:$M$276)) -> 0.13602941
A10: Ļoti grūti | B10: =COUNTIF('Anonimizēta aptaujas datu kopa'!$M$5:$M$276,A10) -> 19 | C10: =IF(COUNTA('Anonimizēta aptaujas datu kopa'!$M$5:$M$276)=0,0,B10/COUNTA('Anonimizēta aptaujas datu kopa'!$M$5:$M$276)) -> 0.069852941
A11: Mani pierakstīja ģimenes ārsts/speciālists | B11: =COUNTIF('Anonimizēta aptaujas datu kopa'!$M$5:$M$276,A11) -> 87 | C11: =IF(COUNTA('Anonimizēta aptaujas datu kopa'!$M$5:$M$276)=0,0,B11/COUNTA('Anonimizēta aptaujas datu kopa'!$M$5:$M$276)) -> 0.31985294
A14: Gaidīšanas laiks līdz radioloģiskajam izmeklējumam
A15: Atbilde | B15: n | C15: %
A16: Mazāk nekā 1 nedēļa | B16: =COUNTIF('Anonimizēta aptaujas datu kopa'!$N$5:$N$276,A16) -> 59 | C16: =IF(COUNTA('Anonimizēta aptaujas datu kopa'!$N$5:$N$276)=0,0,B16/COUNTA('Anonimizēta aptaujas datu kopa'!$N$5:$N$276)) -> 0.21933086
A17: 1–2 nedēļas | B17: =COUNTIF('Anonimizēta aptaujas datu kopa'!$N$5:$N$276,A17) -> 81 | C17: =IF(COUNTA('Anonimizēta aptaujas datu kopa'!$N$5:$N$276)=0,0,B17/COUNTA('Anonimizēta aptaujas datu kopa'!$N$5:$N$276)) -> 0.30111524
A18: 3–4 nedēļas | B18: =COUNTIF('Anonimizēta aptaujas datu kopa'!$N$5:$N$276,A18) -> 60 | C18: =IF(COUNTA('Anonimizēta aptaujas datu kopa'!$N$5:$N$276)=0,0,B18/COUNTA('Anonimizēta aptaujas datu kopa'!$N$5:$N$276)) -> 0.22304833
A19: 1–3 mēneši | B19: =COUNTIF('Anonimizēta aptaujas datu kopa'!$N$5:$N$276,A19) -> 40 | C19: =IF(COUNTA('Anonimizēta aptaujas datu kopa'!$N$5:$N$276)=0,0,B19/COUNTA('Anonimizēta aptaujas datu kopa'!$N$5:$N$276)) -> 0.14869888
A20: Vairāk nekā 3 mēneši | B20: =COUNTIF('Anonimizēta aptaujas datu kopa'!$N$5:$N$276,A20) -> 16 | C20: =IF(COUNTA('Anonimizēta aptaujas datu kopa'!$N$5:$N$276)=0,0,B20/COUNTA('Anonimizēta aptaujas datu kopa'!$N$5:$N$276)) -> 0.059479554
A21: Neatceros | B21: =COUNTIF('Anonimizēta aptaujas datu kopa'!$N$5:$N$276,A21) -> 13 | C21: =IF(COUNTA('Anonimizēta aptaujas datu kopa'!$N$5:$N$276)=0,0,B21/COUNTA('Anonimizēta aptaujas datu kopa'!$N$5:$N$276)) -> 0.048327138
A24: Apmierinātība ar gaidīšanas ilgumu
A25: Atbilde | B25: n | C25: %
A26: Ļoti apmierināts(-a) | B26: =COUNTIF('Anonimizēta aptaujas datu kopa'!$O$5:$O$276,A26) -> 63 | C26: =IF(COUNTA('Anonimizēta aptaujas datu kopa'!$O$5:$O$276)=0,0,B26/COUNTA('Anonimizēta aptaujas datu kopa'!$O$5:$O$276)) -> 0.23161765
A27: Apmierināts(-a) | B27: =COUNTIF('Anonimizēta aptaujas datu kopa'!$O$5:$O$276,A27) -> 95 | C27: =IF(COUNTA('Anonimizēta aptaujas datu kopa'!$O$5:$O$276)=0,0,B27/COUNTA('Anonimizēta aptaujas datu kopa'!$O$5:$O$276)) -> 0.34926471
A28: Ne apmierināts(-a), ne neapmierināts(-a) | B28: =COUNTIF('Anonimizēta aptaujas datu kopa'!$O$5:$O$276,A28) -> 41 | C28: =IF(COUNTA('Anonimizēta aptaujas datu kopa'!$O$5:$O$276)=0,0,B28/COUNTA('Anonimizēta aptaujas datu kopa'!$O$5:$O$276)) -> 0.15073529
A29: Neapmierināts(-a) | B29: =COUNTIF('Anonimizēta aptaujas datu kopa'!$O$5:$O$276,A29) -> 58 | C29: =IF(COUNTA('Anonimizēta aptaujas datu kopa'!$O$5:$O$276)=0,0,B29/COUNTA('Anonimizēta aptaujas datu kopa'!$O$5:$O$276)) -> 0.21323529
A30: Ļoti neapmierināts(-a) | B30: =COUNTIF('Anonimizēta aptaujas datu kopa'!$O$5:$O$276,A30) -> 15 | C30: =IF(COUNTA('Anonimizēta aptaujas datu kopa'!$O$5:$O$276)=0,0,B30/COUNTA('Anonimizēta aptaujas datu kopa'!$O$5:$O$276)) -> 0.055147059
A33: Radioloģiskā izmeklējuma apmaksas veids
A34: Atbilde | B34: n | C34: %
A35: Valsts apmaksātā kārtībā (kvotā) | B35: =COUNTIF('Anonimizēta aptaujas datu kopa'!$P$5:$P$276,A35) -> 182 | C35: =IF(COUNTA('Anonimizēta aptaujas datu kopa'!$P$5:$P$276)=0,0,B35/COUNTA('Anonimizēta aptaujas datu kopa'!$P$5:$P$276)) -> 0.67657993
A36: Privātajā sektorā par maksu | B36: =COUNTIF('Anonimizēta aptaujas datu kopa'!$P$5:$P$276,A36) -> 44 | C36: =IF(COUNTA('Anonimizēta aptaujas datu kopa'!$P$5:$P$276)=0,0,B36/COUNTA('Anonimizēta aptaujas datu kopa'!$P$5:$P$276)) -> 0.16356877
A37: Daļēji par maksu, daļēji valsts apmaksāti | B37: =COUNTIF('Anonimizēta aptaujas datu kopa'!$P$5:$P$276,A37) -> 40 | C37: =IF(COUNTA('Anonimizēta aptaujas datu kopa'!$P$5:$P$276)=0,0,B37/COUNTA('Anonimizēta aptaujas datu kopa'!$P$5:$P$276)) -> 0.14869888
A38: Neatceros | B38: =COUNTIF('Anonimizēta aptaujas datu kopa'!$P$5:$P$276,A38) -> 3 | C38: =IF(COUNTA('Anonimizēta aptaujas datu kopa'!$P$5:$P$276)=0,0,B38/COUNTA('Anonimizēta aptaujas datu kopa'!$P$5:$P$276)) -> 0.011152416
A41: Apmierinātība atkarībā no gaidīšanas laika
A42: Gaidīšanas laiks | B42: Pozitīvi | C42: Neitrāli | D42: Negatīvi
A43: Mazāk nekā 1 nedēļa | B43: =IF(COUNTIF('Anonimizēta aptaujas datu kopa'!$N$5:$N$276,A43)=0,0,(COUNTIFS('Anonimizēta aptaujas datu kopa'!$N$5:$N$276,A43,'Anonimizēta aptaujas datu kopa'!$O$5:$O$276,"Ļoti apmierināts(-a)")+COUNTIFS('Anonimizēta aptaujas datu kopa'!$N$5:$N$276,A43,'Anonimizēta aptaujas datu kopa'!$O$5:$O$276,"Apmierināts(-a)"))/COUNTIF('Anonimizēta aptaujas datu kopa'!$N$5:$N$276,A43)) -> 0.94915254 | C43: =IF(COUNTIF('Anonimizēta aptaujas datu kopa'!$N$5:$N$276,A43)=0,0,COUNTIFS('Anonimizēta aptaujas datu kopa'!$N$5:$N$276,A43,'Anonimizēta aptaujas datu kopa'!$O$5:$O$276,"Ne apmierināts(-a), ne neapmierināts(-a)")/COUNTIF('Anonimizēta aptaujas datu kopa'!$N$5:$N$276,A43)) -> 0.016949153 | D43: =IF(COUNTIF('Anonimizēta aptaujas datu kopa'!$N$5:$N$276,A43)=0,0,(COUNTIFS('Anonimizēta aptaujas datu kopa'!$N$5:$N$276,A43,'Anonimizēta aptaujas datu kopa'!$O$5:$O$276,"Neapmierināts(-a)")+COUNTIFS('Anonimizēta aptaujas datu kopa'!$N$5:$N$276,A43,'Anonimizēta aptaujas datu kopa'!$O$5:$O$276,"Ļoti neapmierināts(-a)"))/COUNTIF('Anonimizēta aptaujas datu kopa'!$N$5:$N$276,A43)) -> 0.033898305
A44: 1–2 nedēļas | B44: =IF(COUNTIF('Anonimizēta aptaujas datu kopa'!$N$5:$N$276,A44)=0,0,(COUNTIFS('Anonimizēta aptaujas datu kopa'!$N$5:$N$276,A44,'Anonimizēta aptaujas datu kopa'!$O$5:$O$276,"Ļoti apmierināts(-a)")+COUNTIFS('Anonimizēta aptaujas datu kopa'!$N$5:$N$276,A44,'Anonimizēta aptaujas datu kopa'!$O$5:$O$276,"Apmierināts(-a)"))/COUNTIF('Anonimizēta aptaujas datu kopa'!$N$5:$N$276,A44)) -> 0.74074074 | C44: =IF(COUNTIF('Anonimizēta aptaujas datu kopa'!$N$5:$N$276,A44)=0,0,COUNTIFS('Anonimizēta aptaujas datu kopa'!$N$5:$N$276,A44,'Anonimizēta aptaujas datu kopa'!$O$5:$O$276,"Ne apmierināts(-a), ne neapmierināts(-a)")/COUNTIF('Anonimizēta aptaujas datu kopa'!$N$5:$N$276,A44)) -> 0.16049383 | D44: =IF(COUNTIF('Anonimizēta aptaujas datu kopa'!$N$5:$N$276,A44)=0,0,(COUNTIFS('Anonimizēta aptaujas datu kopa'!$N$5:$N$276,A44,'Anonimizēta aptaujas datu kopa'!$O$5:$O$276,"Neapmierināts(-a)")+COUNTIFS('Anonimizēta aptaujas datu kopa'!$N$5:$N$276,A44,'Anonimizēta aptaujas datu kopa'!$O$5:$O$276,"Ļoti neapmierināts(-a)"))/COUNTIF('Anonimizēta aptaujas datu kopa'!$N$5:$N$276,A44)) -> 0.098765432
A45: 3–4 nedēļas | B45: =IF(COUNTIF('Anonimizēta aptaujas datu kopa'!$N$5:$N$276,A45)=0,0,(COUNTIFS('Anonimizēta aptaujas datu kopa'!$N$5:$N$276,A45,'Anonimizēta aptaujas datu kopa'!$O$5:$O$276,"Ļoti apmierināts(-a)")+COUNTIFS('Anonimizēta aptaujas datu kopa'!$N$5:$N$276,A45,'Anonimizēta aptaujas datu kopa'!$O$5:$O$276,"Apmierināts(-a)"))/COUNTIF('Anonimizēta aptaujas datu kopa'!$N$5:$N$276,A45)) -> 0.45 | C45: =IF(COUNTIF('Anonimizēta aptaujas datu kopa'!$N$5:$N$276,A45)=0,0,COUNTIFS('Anonimizēta aptaujas datu kopa'!$N$5:$N$276,A45,'Anonimizēta aptaujas datu kopa'!$O$5:$O$276,"Ne apmierināts(-a), ne neapmierināts(-a)")/COUNTIF('Anonimizēta aptaujas datu kopa'!$N$5:$N$276,A45)) -> 0.2 | D45: =IF(COUNTIF('Anonimizēta aptaujas datu kopa'!$N$5:$N$276,A45)=0,0,(COUNTIFS('Anonimizēta aptaujas datu kopa'!$N$5:$N$276,A45,'Anonimizēta aptaujas datu kopa'!$O$5:$O$276,"Neapmierināts(-a)")+COUNTIFS('Anonimizēta aptaujas datu kopa'!$N$5:$N$276,A45,'Anonimizēta aptaujas datu kopa'!$O$5:$O$276,"Ļoti neapmierināts(-a)"))/COUNTIF('Anonimizēta aptaujas datu kopa'!$N$5:$N$276,A45)) -> 0.35
A46: 1–3 mēneši | B46: =IF(COUNTIF('Anonimizēta aptaujas datu kopa'!$N$5:$N$276,A46)=0,0,(COUNTIFS('Anonimizēta aptaujas datu kopa'!$N$5:$N$276,A46,'Anonimizēta aptaujas datu kopa'!$O$5:$O$276,"Ļoti apmierināts(-a)")+COUNTIFS('Anonimizēta aptaujas datu kopa'!$N$5:$N$276,A46,'Anonimizēta aptaujas datu kopa'!$O$5:$O$276,"Apmierināts(-a)"))/COUNTIF('Anonimizēta aptaujas datu kopa'!$N$5:$N$276,A46)) -> 0.125 | C46: =IF(COUNTIF('Anonimizēta aptaujas datu kopa'!$N$5:$N$276,A46)=0,0,COUNTIFS('Anonimizēta aptaujas datu kopa'!$N$5:$N$276,A46,'Anonimizēta aptaujas datu kopa'!$O$5:$O$276,"Ne apmierināts(-a), ne neapmierināts(-a)")/COUNTIF('Anonimizēta aptaujas datu kopa'!$N$5:$N$276,A46)) -> 0.175 | D46: =IF(COUNTIF('Anonimizēta aptaujas datu kopa'!$N$5:$N$276,A46)=0,0,(COUNTIFS('Anonimizēta aptaujas datu kopa'!$N$5:$N$276,A46,'Anonimizēta aptaujas datu kopa'!$O$5:$O$276,"Neapmierināts(-a)")+COUNTIFS('Anonimizēta aptaujas datu kopa'!$N$5:$N$276,A46,'Anonimizēta aptaujas datu kopa'!$O$5:$O$276,"Ļoti neapmierināts(-a)"))/COUNTIF('Anonimizēta aptaujas datu kopa'!$N$5:$N$276,A46)) -> 0.7
A47: Vairāk nekā 3 mēneši | B47: =IF(COUNTIF('Anonimizēta aptaujas datu kopa'!$N$5:$N$276,A47)=0,0,(COUNTIFS('Anonimizēta aptaujas datu kopa'!$N$5:$N$276,A47,'Anonimizēta aptaujas datu kopa'!$O$5:$O$276,"Ļoti apmierināts(-a)")+COUNTIFS('Anonimizēta aptaujas datu kopa'!$N$5:$N$276,A47,'Anonimizēta aptaujas datu kopa'!$O$5:$O$276,"Apmierināts(-a)"))/COUNTIF('Anonimizēta aptaujas datu kopa'!$N$5:$N$276,A47)) -> 0.0625 | C47: =IF(COUNTIF('Anonimizēta aptaujas datu kopa'!$N$5:$N$276,A47)=0,0,COUNTIFS('Anonimizēta aptaujas datu kopa'!$N$5:$N$276,A47,'Anonimizēta aptaujas datu kopa'!$O$5:$O$276,"Ne apmierināts(-a), ne neapmierināts(-a)")/COUNTIF('Anonimizēta aptaujas datu kopa'!$N$5:$N$276,A47)) -> 0.125 | D47: =IF(COUNTIF('Anonimizēta aptaujas datu kopa'!$N$5:$N$276,A47)=0,0,(COUNTIFS('Anonimizēta aptaujas datu kopa'!$N$5:$N$276,A47,'Anonimizēta aptaujas datu kopa'!$O$5:$O$276,"Neapmierināts(-a)")+COUNTIFS('Anonimizēta aptaujas datu kopa'!$N$5:$N$276,A47,'Anonimizēta aptaujas datu kopa'!$O$5:$O$276,"Ļoti neapmierināts(-a)"))/COUNTIF('Anonimizēta aptaujas datu kopa'!$N$5:$N$276,A47)) -> 0.8125
A50: Datu avots: Pacientu pieredzes aptauja Nr. 1 “Ceļš līdz diagnozei”, n=272, 2025–2026.

Sheet Sagatavošana un komunikācija
A1: PACIENTU SAGATAVOŠANA, PROCEDŪRAS SKAIDROJUMS UN IEJŪTĪBA
A4: Informācija par sagatavošanos radioloģiskajam izmeklējumam
A5: Atbilde | B5: n | C5: %
A6: Jā, saņēmu pilnīgu un saprotamu informāciju | B6: =COUNTIF('Anonimizēta aptaujas datu kopa'!$Q$5:$Q$276,A6) -> 214 | C6: =IF(COUNTA('Anonimizēta aptaujas datu kopa'!$Q$5:$Q$276)=0,0,B6/COUNTA('Anonimizēta aptaujas datu kopa'!$Q$5:$Q$276)) -> 0.78676471
A7: Jā, bet informācija bija daļēja vai neskaidra | B7: =COUNTIF('Anonimizēta aptaujas datu kopa'!$Q$5:$Q$276,A7) -> 24 | C7: =IF(COUNTA('Anonimizēta aptaujas datu kopa'!$Q$5:$Q$276)=0,0,B7/COUNTA('Anonimizēta aptaujas datu kopa'!$Q$5:$Q$276)) -> 0.088235294
A8: Nē, informāciju nesaņēmu | B8: =COUNTIF('Anonimizēta aptaujas datu kopa'!$Q$5:$Q$276,A8) -> 14 | C8: =IF(COUNTA('Anonimizēta aptaujas datu kopa'!$Q$5:$Q$276)=0,0,B8/COUNTA('Anonimizēta aptaujas datu kopa'!$Q$5:$Q$276)) -> 0.051470588
A9: Sagatavošanās nebija nepieciešama | B9: =COUNTIF('Anonimizēta aptaujas datu kopa'!$Q$5:$Q$276,A9) -> 20 | C9: =IF(COUNTA('Anonimizēta aptaujas datu kopa'!$Q$5:$Q$276)=0,0,B9/COUNTA('Anonimizēta aptaujas datu kopa'!$Q$5:$Q$276)) -> 0.073529412
A12: Vai personālam bija visa nepieciešamā informācija
A13: Atbilde | B13: n | C13: %
A14: Jā, šķita, ka viņiem bija visa informācija | B14: =COUNTIF('Anonimizēta aptaujas datu kopa'!$R$5:$R$276,A14) -> 222 | C14: =IF(COUNTA('Anonimizēta aptaujas datu kopa'!$R$5:$R$276)=0,0,B14/COUNTA('Anonimizēta aptaujas datu kopa'!$R$5:$R$276)) -> 0.81617647
A15: Neesmu drošs(-a) | B15: =COUNTIF('Anonimizēta aptaujas datu kopa'!$R$5:$R$276,A15) -> 38 | C15: =IF(COUNTA('Anonimizēta aptaujas datu kopa'!$R$5:$R$276)=0,0,B15/COUNTA('Anonimizēta aptaujas datu kopa'!$R$5:$R$276)) -> 0.13970588
A16: Nē, šķita, ka informācija trūka | B16: =COUNTIF('Anonimizēta aptaujas datu kopa'!$R$5:$R$276,A16) -> 12 | C16: =IF(COUNTA('Anonimizēta aptaujas datu kopa'!$R$5:$R$276)=0,0,B16/COUNTA('Anonimizēta aptaujas datu kopa'!$R$5:$R$276)) -> 0.044117647
A19: Procedūras skaidrojums pacientam
A20: Atbilde | B20: n | C20: %
A21: Jā, pilnībā saprotami | B21: =COUNTIF('Anonimizēta aptaujas datu kopa'!$S$5:$S$276,A21) -> 204 | C21: =IF(COUNTA('Anonimizēta aptaujas datu kopa'!$S$5:$S$276)=0,0,B21/COUNTA('Anonimizēta aptaujas datu kopa'!$S$5:$S$276)) -> 0.75
A22: Jā, daļēji saprotami | B22: =COUNTIF('Anonimizēta aptaujas datu kopa'!$S$5:$S$276,A22) -> 37 | C22: =IF(COUNTA('Anonimizēta aptaujas datu kopa'!$S$5:$S$276)=0,0,B22/COUNTA('Anonimizēta aptaujas datu kopa'!$S$5:$S$276)) -> 0.13602941
A23: Jā, bet neko nesapratu | B23: =COUNTIF('Anonimizēta aptaujas datu kopa'!$S$5:$S$276,A23) -> 7 | C23: =IF(COUNTA('Anonimizēta aptaujas datu kopa'!$S$5:$S$276)=0,0,B23/COUNTA('Anonimizēta aptaujas datu kopa'!$S$5:$S$276)) -> 0.025735294
A24: Nē, nepaskaidroja | B24: =COUNTIF('Anonimizēta aptaujas datu kopa'!$S$5:$S$276,A24) -> 16 | C24: =IF(COUNTA('Anonimizēta aptaujas datu kopa'!$S$5:$S$276)=0,0,B24/COUNTA('Anonimizēta aptaujas datu kopa'!$S$5:$S$276)) -> 0.058823529
A25: Paskaidrojums nebija nepieciešams | B25: =COUNTIF('Anonimizēta aptaujas datu kopa'!$S$5:$S$276,A25) -> 8 | C25: =IF(COUNTA('Anonimizēta aptaujas datu kopa'!$S$5:$S$276)=0,0,B25/COUNTA('Anonimizēta aptaujas datu kopa'!$S$5:$S$276)) -> 0.029411765
A28: Radioloģijas personāla iejūtības un rūpju vērtējums
A29: Vērtējums | B29: n | C29: % | E29: KPI | F29: Vērtība
A30: 1 | B30: =COUNTIF('Anonimizēta aptaujas datu kopa'!$T$5:$T$276,A30) -> 6 | C30: =B30/COUNTA('Anonimizēta aptaujas datu kopa'!$T$5:$T$276) -> 0.022058824 | E30: Vidējais | F30: =AVERAGE('Anonimizēta aptaujas datu kopa'!$T$5:$T$276) -> 8.2757353
A31: 2 | B31: =COUNTIF('Anonimizēta aptaujas datu kopa'!$T$5:$T$276,A31) -> 0 | C31: =B31/COUNTA('Anonimizēta aptaujas datu kopa'!$T$5:$T$276) -> 0 | E31: Mediāna | F31: =MEDIAN('Anonimizēta aptaujas datu kopa'!$T$5:$T$276) -> 9
A32: 3 | B32: =COUNTIF('Anonimizēta aptaujas datu kopa'!$T$5:$T$276,A32) -> 3 | C32: =B32/COUNTA('Anonimizēta aptaujas datu kopa'!$T$5:$T$276) -> 0.011029412
A33: 4 | B33: =COUNTIF('Anonimizēta aptaujas datu kopa'!$T$5:$T$276,A33) -> 4 | C33: =B33/COUNTA('Anonimizēta aptaujas datu kopa'!$T$5:$T$276) -> 0.014705882
A34: 5 | B34: =COUNTIF('Anonimizēta aptaujas datu kopa'!$T$5:$T$276,A34) -> 18 | C34: =B34/COUNTA('Anonimizēta aptaujas datu kopa'!$T$5:$T$276) -> 0.066176471
A35: 6 | B35: =COUNTIF('Anonimizēta aptaujas datu kopa'!$T$5:$T$276,A35) -> 15 | C35: =B35/COUNTA('Anonimizēta aptaujas datu kopa'!$T$5:$T$276) -> 0.055147059
A36: 7 | B36: =COUNTIF('Anonimizēta aptaujas datu kopa'!$T$5:$T$276,A36) -> 22 | C36: =B36/COUNTA('Anonimizēta aptaujas datu kopa'!$T$5:$T$276) -> 0.080882353
A37: 8 | B37: =COUNTIF('Anonimizēta aptaujas datu kopa'!$T$5:$T$276,A37) -> 43 | C37: =B37/COUNTA('Anonimizēta aptaujas datu kopa'!$T$5:$T$276) -> 0.15808824
A38: 9 | B38: =COUNTIF('Anonimizēta aptaujas datu kopa'!$T$5:$T$276,A38) -> 68 | C38: =B38/COUNTA('Anonimizēta aptaujas datu kopa'!$T$5:$T$276) -> 0.25
A39: 10 | B39: =COUNTIF('Anonimizēta aptaujas datu kopa'!$T$5:$T$276,A39) -> 93 | C39: =B39/COUNTA('Anonimizēta aptaujas datu kopa'!$T$5:$T$276) -> 0.34191176
A42: Datu avots: Pacientu pieredzes aptauja Nr. 1 “Ceļš līdz diagnozei”, n=272, 2025–2026.

Sheet Rezultātu pieejamība
A1: IZMEKLĒJUMU REZULTĀTU PIEEJAMĪBA UN SKAIDROJUMS
A4: Apmierinātība ar izmeklējuma rezultātu gaidīšanas laiku
A5: Atbilde | B5: n | C5: %
A6: Ļoti apmierināts(-a) | B6: =COUNTIF('Anonimizēta aptaujas datu kopa'!$U$5:$U$276,A6) -> 30 | C6: =IF(COUNTA('Anonimizēta aptaujas datu kopa'!$U$5:$U$276)=0,0,B6/COUNTA('Anonimizēta aptaujas datu kopa'!$U$5:$U$276)) -> 0.11029412
A7: Apmierināts(-a) | B7: =COUNTIF('Anonimizēta aptaujas datu kopa'!$U$5:$U$276,A7) -> 150 | C7: =IF(COUNTA('Anonimizēta aptaujas datu kopa'!$U$5:$U$276)=0,0,B7/COUNTA('Anonimizēta aptaujas datu kopa'!$U$5:$U$276)) -> 0.55147059
A8: Ne apmierināts(-a), ne neapmierināts(-a) | B8: =COUNTIF('Anonimizēta aptaujas datu kopa'!$U$5:$U$276,A8) -> 47 | C8: =IF(COUNTA('Anonimizēta aptaujas datu kopa'!$U$5:$U$276)=0,0,B8/COUNTA('Anonimizēta aptaujas datu kopa'!$U$5:$U$276)) -> 0.17279412
A9: Neapmierināts(-a) | B9: =COUNTIF('Anonimizēta aptaujas datu kopa'!$U$5:$U$276,A9) -> 35 | C9: =IF(COUNTA('Anonimizēta aptaujas datu kopa'!$U$5:$U$276)=0,0,B9/COUNTA('Anonimizēta aptaujas datu kopa'!$U$5:$U$276)) -> 0.12867647
A10: Ļoti neapmierināts(-a) | B10: =COUNTIF('Anonimizēta aptaujas datu kopa'!$U$5:$U$276,A10) -> 10 | C10: =IF(COUNTA('Anonimizēta aptaujas datu kopa'!$U$5:$U$276)=0,0,B10/COUNTA('Anonimizēta aptaujas datu kopa'!$U$5:$U$276)) -> 0.036764706
A13: Izmeklējuma rezultātu pieejamība ārstam
A14: Atbilde | B14: n | C14: %
A15: Jā, viss bija pieejams | B15: =COUNTIF('Anonimizēta aptaujas datu kopa'!$V$5:$V$276,A15) -> 224 | C15: =IF(COUNTA('Anonimizēta aptaujas datu kopa'!$V$5:$V$276)=0,0,B15/COUNTA('Anonimizēta aptaujas datu kopa'!$V$5:$V$276)) -> 0.82352941
A16: Daļa rezultātu bija pieejama, daļa – nē | B16: =COUNTIF('Anonimizēta aptaujas datu kopa'!$V$5:$V$276,A16) -> 33 | C16: =IF(COUNTA('Anonimizēta aptaujas datu kopa'!$V$5:$V$276)=0,0,B16/COUNTA('Anonimizēta aptaujas datu kopa'!$V$5:$V$276)) -> 0.12132353
A17: Nē, man pašam(-ai) bija jānodrošina rezultātu (piem., diska) nogādāšana ārstam | B17: =COUNTIF('Anonimizēta aptaujas datu kopa'!$V$5:$V$276,A17) -> 8 | C17: =IF(COUNTA('Anonimizēta aptaujas datu kopa'!$V$5:$V$276)=0,0,B17/COUNTA('Anonimizēta aptaujas datu kopa'!$V$5:$V$276)) -> 0.029411765
A18: Nē, man bija jāgaida, kamēr tos atradīs vai atsūtīs | B18: =COUNTIF('Anonimizēta aptaujas datu kopa'!$V$5:$V$276,A18) -> 5 | C18: =IF(COUNTA('Anonimizēta aptaujas datu kopa'!$V$5:$V$276)=0,0,B18/COUNTA('Anonimizēta aptaujas datu kopa'!$V$5:$V$276)) -> 0.018382353
A19: Neesmu drošs(-a) / Vēl neesmu bijis(-usi) pie nākamā ārsta | B19: =COUNTIF('Anonimizēta aptaujas datu kopa'!$V$5:$V$276,A19) -> 2 | C19: =IF(COUNTA('Anonimizēta aptaujas datu kopa'!$V$5:$V$276)=0,0,B19/COUNTA('Anonimizēta aptaujas datu kopa'!$V$5:$V$276)) -> 0.0073529412
A22: Kā speciālists iepazinās ar izmeklējuma rezultātiem
A23: Atbilde | B23: n | C23: %
A24: Speciālists bija iepriekš iepazinies ar maniem izmeklējuma rezultātiem | B24: =COUNTIF('Anonimizēta aptaujas datu kopa'!$W$5:$W$276,A24) -> 104 | C24: =IF(COUNTA('Anonimizēta aptaujas datu kopa'!$W$5:$W$276)=0,0,B24/COUNTA('Anonimizēta aptaujas datu kopa'!$W$5:$W$276)) -> 0.3866171
A25: Speciālists izskatīja izmeklējuma attēlus/aprakstu manas vizītes laikā | B25: =COUNTIF('Anonimizēta aptaujas datu kopa'!$W$5:$W$276,A25) -> 150 | C25: =IF(COUNTA('Anonimizēta aptaujas datu kopa'!$W$5:$W$276)=0,0,B25/COUNTA('Anonimizēta aptaujas datu kopa'!$W$5:$W$276)) -> 0.55762082
A26: Nezinu / neatceros | B26: =COUNTIF('Anonimizēta aptaujas datu kopa'!$W$5:$W$276,A26) -> 15 | C26: =IF(COUNTA('Anonimizēta aptaujas datu kopa'!$W$5:$W$276)=0,0,B26/COUNTA('Anonimizēta aptaujas datu kopa'!$W$5:$W$276)) -> 0.055762082
A29: Izmeklējuma rezultātu skaidrojums pacientam
A30: Atbilde | B30: n | C30: %
A31: Jā, pilnībā saprotami | B31: =COUNTIF('Anonimizēta aptaujas datu kopa'!$X$5:$X$276,A31) -> 145 | C31: =IF(COUNTA('Anonimizēta aptaujas datu kopa'!$X$5:$X$276)=0,0,B31/COUNTA('Anonimizēta aptaujas datu kopa'!$X$5:$X$276)) -> 0.53308824
A32: Jā, daļēji saprotami | B32: =COUNTIF('Anonimizēta aptaujas datu kopa'!$X$5:$X$276,A32) -> 99 | C32: =IF(COUNTA('Anonimizēta aptaujas datu kopa'!$X$5:$X$276)=0,0,B32/COUNTA('Anonimizēta aptaujas datu kopa'!$X$5:$X$276)) -> 0.36397059
A33: Nē, es nesapratu skaidrojumu | B33: =COUNTIF('Anonimizēta aptaujas datu kopa'!$X$5:$X$276,A33) -> 15 | C33: =IF(COUNTA('Anonimizēta aptaujas datu kopa'!$X$5:$X$276)=0,0,B33/COUNTA('Anonimizēta aptaujas datu kopa'!$X$5:$X$276)) -> 0.055147059
A34: Man nesniedza paskaidrojumu, bet es to vēlētos | B34: =COUNTIF('Anonimizēta aptaujas datu kopa'!$X$5:$X$276,A34) -> 13 | C34: =IF(COUNTA('Anonimizēta aptaujas datu kopa'!$X$5:$X$276)=0,0,B34/COUNTA('Anonimizēta aptaujas datu kopa'!$X$5:$X$276)) -> 0.047794118
A37: Datu avots: Pacientu pieredzes aptauja Nr. 1 “Ceļš līdz diagnozei”, n=272, 2025–2026.

Sheet Atkārtoti izmeklējumi
A1: ATKĀRTOTI IZMEKLĒJUMI UN TEHNISKĀ PĒCTECĪBA
A4: Atkārtotu radioloģisko izmeklējumu pieredze
A5: Atbilde | B5: n | C5: %
A6: Nē, man nebija šādas pieredzes | B6: =COUNTIF('Anonimizēta aptaujas datu kopa'!$Y$5:$Y$276,A6) -> 219 | C6: =IF(COUNTA('Anonimizēta aptaujas datu kopa'!$Y$5:$Y$276)=0,0,B6/COUNTA('Anonimizēta aptaujas datu kopa'!$Y$5:$Y$276)) -> 0.80514706
A7: Jā, vienu reizi | B7: =COUNTIF('Anonimizēta aptaujas datu kopa'!$Y$5:$Y$276,A7) -> 29 | C7: =IF(COUNTA('Anonimizēta aptaujas datu kopa'!$Y$5:$Y$276)=0,0,B7/COUNTA('Anonimizēta aptaujas datu kopa'!$Y$5:$Y$276)) -> 0.10661765
A8: Jā, vairākas reizes | B8: =COUNTIF('Anonimizēta aptaujas datu kopa'!$Y$5:$Y$276,A8) -> 11 | C8: =IF(COUNTA('Anonimizēta aptaujas datu kopa'!$Y$5:$Y$276)=0,0,B8/COUNTA('Anonimizēta aptaujas datu kopa'!$Y$5:$Y$276)) -> 0.040441176
A9: Jā, speciālists lūdza izmeklējumu pārtaisīt konkrētajā ārstniecības iestādē | B9: =COUNTIF('Anonimizēta aptaujas datu kopa'!$Y$5:$Y$276,A9) -> 10 | C9: =IF(COUNTA('Anonimizēta aptaujas datu kopa'!$Y$5:$Y$276)=0,0,B9/COUNTA('Anonimizēta aptaujas datu kopa'!$Y$5:$Y$276)) -> 0.036764706
A10: Neesmu drošs(-a) | B10: =COUNTIF('Anonimizēta aptaujas datu kopa'!$Y$5:$Y$276,A10) -> 3 | C10: =IF(COUNTA('Anonimizēta aptaujas datu kopa'!$Y$5:$Y$276)=0,0,B10/COUNTA('Anonimizēta aptaujas datu kopa'!$Y$5:$Y$276)) -> 0.011029412
A13: Kopējais aprūpes vērtējums pēc atkārtotu izmeklējumu pieredzes
A14: Atkārtotu izmeklējumu pieredze | B14: n | C14: Vidējais aprūpes vērtējums
A15: Nē, man nebija šādas pieredzes | B15: =COUNTIF('Anonimizēta aptaujas datu kopa'!$Y$5:$Y$276,A15) -> 219 | C15: =IF(B15=0,0,AVERAGEIF('Anonimizēta aptaujas datu kopa'!$Y$5:$Y$276,A15,'Anonimizēta aptaujas datu kopa'!$AJ$5:$AJ$276)) -> 7.2100457
A16: Jā, vienu reizi | B16: =COUNTIF('Anonimizēta aptaujas datu kopa'!$Y$5:$Y$276,A16) -> 29 | C16: =IF(B16=0,0,AVERAGEIF('Anonimizēta aptaujas datu kopa'!$Y$5:$Y$276,A16,'Anonimizēta aptaujas datu kopa'!$AJ$5:$AJ$276)) -> 7.3103448
A17: Jā, vairākas reizes | B17: =COUNTIF('Anonimizēta aptaujas datu kopa'!$Y$5:$Y$276,A17) -> 11 | C17: =IF(B17=0,0,AVERAGEIF('Anonimizēta aptaujas datu kopa'!$Y$5:$Y$276,A17,'Anonimizēta aptaujas datu kopa'!$AJ$5:$AJ$276)) -> 5.7272727
A18: Jā, speciālists lūdza izmeklējumu pārtaisīt konkrētajā ārstniecības iestādē | B18: =COUNTIF('Anonimizēta aptaujas datu kopa'!$Y$5:$Y$276,A18) -> 10 | C18: =IF(B18=0,0,AVERAGEIF('Anonimizēta aptaujas datu kopa'!$Y$5:$Y$276,A18,'Anonimizēta aptaujas datu kopa'!$AJ$5:$AJ$276)) -> 6.4
A19: Neesmu drošs(-a) | B19: =COUNTIF('Anonimizēta aptaujas datu kopa'!$Y$5:$Y$276,A19) -> 3 | C19: =IF(B19=0,0,AVERAGEIF('Anonimizēta aptaujas datu kopa'!$Y$5:$Y$276,A19,'Anonimizēta aptaujas datu kopa'!$AJ$5:$AJ$276)) -> 6.3333333
A22: Datu avots: Pacientu pieredzes aptauja Nr. 1 “Ceļš līdz diagnozei”, n=272, 2025–2026.

Sheet Diagnozes paziņošana
A1: DIAGNOZES PAZIŅOŠANA UN EMOCIONĀLĀ PIEREDZE
A4: Atbalsta personas iespēja
A5: Atbilde | B5: n | C5: %
A6: Jā, man piedāvāja šādu iespēju | B6: =COUNTIF('Anonimizēta aptaujas datu kopa'!$Z$5:$Z$276,A6) -> 58 | C6: =IF(COUNTA('Anonimizēta aptaujas datu kopa'!$Z$5:$Z$276)=0,0,B6/COUNTA('Anonimizēta aptaujas datu kopa'!$Z$5:$Z$276)) -> 0.21323529
A7: Nē, man nepiedāvāja šādu iespēju | B7: =COUNTIF('Anonimizēta aptaujas datu kopa'!$Z$5:$Z$276,A7) -> 186 | C7: =IF(COUNTA('Anonimizēta aptaujas datu kopa'!$Z$5:$Z$276)=0,0,B7/COUNTA('Anonimizēta aptaujas datu kopa'!$Z$5:$Z$276)) -> 0.68382353
A8: Nē, man īpaši norādīja, ka neviens nevar būt klāt | B8: =COUNTIF('Anonimizēta aptaujas datu kopa'!$Z$5:$Z$276,A8) -> 4 | C8: =IF(COUNTA('Anonimizēta aptaujas datu kopa'!$Z$5:$Z$276)=0,0,B8/COUNTA('Anonimizēta aptaujas datu kopa'!$Z$5:$Z$276)) -> 0.014705882
A9: Diagnozi uzzināju pa tālruni vai e-pastā | B9: =COUNTIF('Anonimizēta aptaujas datu kopa'!$Z$5:$Z$276,A9) -> 24 | C9: =IF(COUNTA('Anonimizēta aptaujas datu kopa'!$Z$5:$Z$276)=0,0,B9/COUNTA('Anonimizēta aptaujas datu kopa'!$Z$5:$Z$276)) -> 0.088235294
A12: Diagnozes paziņošanas procesa pozitīvais vērtējums
A13: Rādītājs | B13: Atbilžu skaits | C13: Pozitīvi (n) | D13: Pozitīvi (%)
A14: Diagnoze izskaidrota saprotami un pietiekami detalizēti | B14: =COUNTA('Anonimizēta aptaujas datu kopa'!$AA$5:$AA$276) -> 269 | C14: =COUNTIF('Anonimizēta aptaujas datu kopa'!$AA$5:$AA$276,"Noteikti jā")+COUNTIF('Anonimizēta aptaujas datu kopa'!$AA$5:$AA$276,"Drīzāk jā") -> 217 | D14: =IF(B14=0,0,C14/B14) -> 0.80669145
A15: Diagnoze paziņota iejūtīgi | B15: =COUNTA('Anonimizēta aptaujas datu kopa'!$AB$5:$AB$276) -> 272 | C15: =COUNTIF('Anonimizēta aptaujas datu kopa'!$AB$5:$AB$276,"Noteikti jā")+COUNTIF('Anonimizēta aptaujas datu kopa'!$AB$5:$AB$276,"Drīzāk jā") -> 201 | D15: =IF(B15=0,0,C15/B15) -> 0.73897059
A16: Dota iespēja uzdot jautājumus | B16: =COUNTA('Anonimizēta aptaujas datu kopa'!$AC$5:$AC$276) -> 272 | C16: =COUNTIF('Anonimizēta aptaujas datu kopa'!$AC$5:$AC$276,"Noteikti jā")+COUNTIF('Anonimizēta aptaujas datu kopa'!$AC$5:$AC$276,"Drīzāk jā") -> 234 | D16: =IF(B16=0,0,C16/B16) -> 0.86029412
A17: Nodrošināts privātums | B17: =COUNTA('Anonimizēta aptaujas datu kopa'!$AD$5:$AD$276) -> 272 | C17: =COUNTIF('Anonimizēta aptaujas datu kopa'!$AD$5:$AD$276,"Noteikti jā")+COUNTIF('Anonimizēta aptaujas datu kopa'!$AD$5:$AD$276,"Drīzāk jā") -> 234 | D17: =IF(B17=0,0,C17/B17) -> 0.86029412
A20: Pacienta sajūta diagnozes saņemšanas laikā
A21: Pieredzes grupa | B21: n | C21: %
A22: Ārsta iesaiste un ieinteresētība | B22: =COUNTIF('Anonimizēta aptaujas datu kopa'!$AE$5:$AE$276,"Es sajutu ārsta iesaisti un ieinteresētību - ārsts centās saprotami izskaidrot diagnozi un ārstēšanas plānu.") -> 165 | C22: =B22/COUNTA('Anonimizēta aptaujas datu kopa'!$AE$5:$AE$276) -> 0.6133829
A23: Īsas un formālas atbildes | B23: =COUNTIF('Anonimizēta aptaujas datu kopa'!$AE$5:$AE$276,"Atbildes bija īsas un formālas, kas radīja apjukumu un nepalīdzēja izprast manu situāciju.") -> 63 | C23: =B23/COUNTA('Anonimizēta aptaujas datu kopa'!$AE$5:$AE$276) -> 0.23420074
A24: Vienaldzība vai atturība | B24: =COUNTIF('Anonimizēta aptaujas datu kopa'!$AE$5:$AE$276,"Es sajutu vienaldzību vai pat zināmu atturību no ārsta puses.") -> 20 | C24: =B24/COUNTA('Anonimizēta aptaujas datu kopa'!$AE$5:$AE$276) -> 0.074349442
A25: Cita individuāli aprakstīta pieredze | B25: =COUNTA('Anonimizēta aptaujas datu kopa'!$AE$5:$AE$276)-SUM(B22:B24) -> 21 | C25: =B25/COUNTA('Anonimizēta aptaujas datu kopa'!$AE$5:$AE$276) -> 0.078066914
A28: Datu avots: Pacientu pieredzes aptauja Nr. 1 “Ceļš līdz diagnozei”, n=272, 2025–2026.

Sheet Ārstēšana un atbalsts
A1: ĀRSTĒŠANAS IESPĒJAS, LĪDZDALĪBA UN ATBALSTA INFORMĀCIJA
A4: Ārstēšanas iespēju skaidrojums
A5: Atbilde | B5: n | C5: %
A6: Jā, pilnībā saprotami | B6: =COUNTIF('Anonimizēta aptaujas datu kopa'!$AF$5:$AF$276,A6) -> 143 | C6: =IF(COUNTA('Anonimizēta aptaujas datu kopa'!$AF$5:$AF$276)=0,0,B6/COUNTA('Anonimizēta aptaujas datu kopa'!$AF$5:$AF$276)) -> 0.52573529
A7: Jā, daļēji saprotami | B7: =COUNTIF('Anonimizēta aptaujas datu kopa'!$AF$5:$AF$276,A7) -> 88 | C7: =IF(COUNTA('Anonimizēta aptaujas datu kopa'!$AF$5:$AF$276)=0,0,B7/COUNTA('Anonimizēta aptaujas datu kopa'!$AF$5:$AF$276)) -> 0.32352941
A8: Nē, nesaprotami | B8: =COUNTIF('Anonimizēta aptaujas datu kopa'!$AF$5:$AF$276,A8) -> 21 | C8: =IF(COUNTA('Anonimizēta aptaujas datu kopa'!$AF$5:$AF$276)=0,0,B8/COUNTA('Anonimizēta aptaujas datu kopa'!$AF$5:$AF$276)) -> 0.077205882
A9: Man nebija dažādu ārstēšanas iespēju | B9: =COUNTIF('Anonimizēta aptaujas datu kopa'!$AF$5:$AF$276,A9) -> 20 | C9: =IF(COUNTA('Anonimizēta aptaujas datu kopa'!$AF$5:$AF$276)=0,0,B9/COUNTA('Anonimizēta aptaujas datu kopa'!$AF$5:$AF$276)) -> 0.073529412
A12: Pacienta iesaistīšana lēmumu pieņemšanā
A13: Atbilde | B13: n | C13: %
A14: Jā, pilnībā | B14: =COUNTIF('Anonimizēta aptaujas datu kopa'!$AG$5:$AG$276,A14) -> 115 | C14: =IF(COUNTA('Anonimizēta aptaujas datu kopa'!$AG$5:$AG$276)=0,0,B14/COUNTA('Anonimizēta aptaujas datu kopa'!$AG$5:$AG$276)) -> 0.42279412
A15: Jā, daļēji | B15: =COUNTIF('Anonimizēta aptaujas datu kopa'!$AG$5:$AG$276,A15) -> 71 | C15: =IF(COUNTA('Anonimizēta aptaujas datu kopa'!$AG$5:$AG$276)=0,0,B15/COUNTA('Anonimizēta aptaujas datu kopa'!$AG$5:$AG$276)) -> 0.26102941
A16: Nē, nemaz | B16: =COUNTIF('Anonimizēta aptaujas datu kopa'!$AG$5:$AG$276,A16) -> 64 | C16: =IF(COUNTA('Anonimizēta aptaujas datu kopa'!$AG$5:$AG$276)=0,0,B16/COUNTA('Anonimizēta aptaujas datu kopa'!$AG$5:$AG$276)) -> 0.23529412
A17: Es nevēlējos iesaistīties lēmumu pieņemšanā | B17: =COUNTIF('Anonimizēta aptaujas datu kopa'!$AG$5:$AG$276,A17) -> 22 | C17: =IF(COUNTA('Anonimizēta aptaujas datu kopa'!$AG$5:$AG$276)=0,0,B17/COUNTA('Anonimizēta aptaujas datu kopa'!$AG$5:$AG$276)) -> 0.080882353
A20: Informācija, kur vērsties papildjautājumu gadījumā
A21: Atbilde | B21: n | C21: %
A22: Jā | B22: =COUNTIF('Anonimizēta aptaujas datu kopa'!$AH$5:$AH$276,A22) -> 108 | C22: =IF(COUNTA('Anonimizēta aptaujas datu kopa'!$AH$5:$AH$276)=0,0,B22/COUNTA('Anonimizēta aptaujas datu kopa'!$AH$5:$AH$276)) -> 0.39705882
A23: Nē | B23: =COUNTIF('Anonimizēta aptaujas datu kopa'!$AH$5:$AH$276,A23) -> 114 | C23: =IF(COUNTA('Anonimizēta aptaujas datu kopa'!$AH$5:$AH$276)=0,0,B23/COUNTA('Anonimizēta aptaujas datu kopa'!$AH$5:$AH$276)) -> 0.41911765
A24: Neatceros | B24: =COUNTIF('Anonimizēta aptaujas datu kopa'!$AH$5:$AH$276,A24) -> 50 | C24: =IF(COUNTA('Anonimizēta aptaujas datu kopa'!$AH$5:$AH$276)=0,0,B24/COUNTA('Anonimizēta aptaujas datu kopa'!$AH$5:$AH$276)) -> 0.18382353
A27: Administratīvā un finansiālā informācija / palīdzība
A28: Atbilde | B28: n | C28: %
A29: Jā, saņēmu visu nepieciešamo informāciju | B29: =COUNTIF('Anonimizēta aptaujas datu kopa'!$AI$5:$AI$276,A29) -> 65 | C29: =IF(COUNTA('Anonimizēta aptaujas datu kopa'!$AI$5:$AI$276)=0,0,B29/COUNTA('Anonimizēta aptaujas datu kopa'!$AI$5:$AI$276)) -> 0.23897059
A30: Daļēji, informācija bija nepilnīga | B30: =COUNTIF('Anonimizēta aptaujas datu kopa'!$AI$5:$AI$276,A30) -> 63 | C30: =IF(COUNTA('Anonimizēta aptaujas datu kopa'!$AI$5:$AI$276)=0,0,B30/COUNTA('Anonimizēta aptaujas datu kopa'!$AI$5:$AI$276)) -> 0.23161765
A31: Nē, nesaņēmu nekādu informāciju | B31: =COUNTIF('Anonimizēta aptaujas datu kopa'!$AI$5:$AI$276,A31) -> 115 | C31: =IF(COUNTA('Anonimizēta aptaujas datu kopa'!$AI$5:$AI$276)=0,0,B31/COUNTA('Anonimizēta aptaujas datu kopa'!$AI$5:$AI$276)) -> 0.42279412
A32: Man šāda palīdzība nebija nepieciešama | B32: =COUNTIF('Anonimizēta aptaujas datu kopa'!$AI$5:$AI$276,A32) -> 29 | C32: =IF(COUNTA('Anonimizēta aptaujas datu kopa'!$AI$5:$AI$276)=0,0,B32/COUNTA('Anonimizēta aptaujas datu kopa'!$AI$5:$AI$276)) -> 0.10661765
A35: Datu avots: Pacientu pieredzes aptauja Nr. 1 “Ceļš līdz diagnozei”, n=272, 2025–2026.

Sheet Kopējais vērtējums
A1: KOPĒJAIS APRŪPES VĒRTĒJUMS UN PACIENTA CEĻA SKAIDRĪBA
A4: Kopējais saņemtās aprūpes vērtējums diagnostikas posmā
A5: Vērtējums | B5: n | C5: % | E5: KPI | F5: Vērtība
A6: 0 | B6: 7 | C6: 0.025735294 | E6: Vidējais | F6: =AVERAGE('Anonimizēta aptaujas datu kopa'!$AJ$5:$AJ$276) -> 7.1213235
A7: 1 | B7: 0 | C7: 0 | E7: Mediāna | F7: =MEDIAN('Anonimizēta aptaujas datu kopa'!$AJ$5:$AJ$276) -> 8
A8: 2 | B8: 6 | C8: 0.022058824
A9: 3 | B9: 11 | C9: 0.040441176
A10: 4 | B10: 13 | C10: 0.047794118
A11: 5 | B11: 33 | C11: 0.12132353
A12: 6 | B12: 26 | C12: 0.095588235
A13: 7 | B13: 36 | C13: 0.13235294
A14: 8 | B14: 45 | C14: 0.16544118
A15: 9 | B15: 43 | C15: 0.15808824
A16: 10 | B16: 52 | C16: 0.19117647
A18: Pacienta izpratne par diagnostikas maršrutu un nākamajiem soļiem
A19: Atbilde | B19: n | C19: %
A20: Pilnībā sapratu visu maršrutu un nākamos soļus | B20: =COUNTIF('Anonimizēta aptaujas datu kopa'!$AK$5:$AK$276,A20) -> 94 | C20: =IF(COUNTA('Anonimizēta aptaujas datu kopa'!$AK$5:$AK$276)=0,0,B20/COUNTA('Anonimizēta aptaujas datu kopa'!$AK$5:$AK$276)) -> 0.34944238
A21: Pārsvarā sapratu, bet atsevišķi soļi nebija līdz galam skaidri | B21: =COUNTIF('Anonimizēta aptaujas datu kopa'!$AK$5:$AK$276,A21) -> 79 | C21: =IF(COUNTA('Anonimizēta aptaujas datu kopa'!$AK$5:$AK$276)=0,0,B21/COUNTA('Anonimizēta aptaujas datu kopa'!$AK$5:$AK$276)) -> 0.2936803
A22: Daļēji sapratu, bieži jutos apjucis(-usi) | B22: =COUNTIF('Anonimizēta aptaujas datu kopa'!$AK$5:$AK$276,A22) -> 67 | C22: =IF(COUNTA('Anonimizēta aptaujas datu kopa'!$AK$5:$AK$276)=0,0,B22/COUNTA('Anonimizēta aptaujas datu kopa'!$AK$5:$AK$276)) -> 0.24907063
A23: Vairumā gadījumu nesapratu, kas man jādara tālāk | B23: =COUNTIF('Anonimizēta aptaujas datu kopa'!$AK$5:$AK$276,A23) -> 14 | C23: =IF(COUNTA('Anonimizēta aptaujas datu kopa'!$AK$5:$AK$276)=0,0,B23/COUNTA('Anonimizēta aptaujas datu kopa'!$AK$5:$AK$276)) -> 0.05204461
A24: Pilnībā nesapratu un man trūka informācijas | B24: =COUNTIF('Anonimizēta aptaujas datu kopa'!$AK$5:$AK$276,A24) -> 15 | C24: =IF(COUNTA('Anonimizēta aptaujas datu kopa'!$AK$5:$AK$276)=0,0,B24/COUNTA('Anonimizēta aptaujas datu kopa'!$AK$5:$AK$276)) -> 0.055762082
A27: Kopējais aprūpes vērtējums pēc pacienta ceļa skaidrības
A28: Pacienta ceļa skaidrība | B28: n | C28: Vidējais | D28: Mediāna
A29: Pilnībā sapratu visu maršrutu un nākamos soļus | B29: =COUNTIF('Anonimizēta aptaujas datu kopa'!$AK$5:$AK$276,A29) -> 94 | C29: =IF(B29=0,0,AVERAGEIF('Anonimizēta aptaujas datu kopa'!$AK$5:$AK$276,A29,'Anonimizēta aptaujas datu kopa'!$AJ$5:$AJ$276)) -> 8.7765957 | D29: 9
A30: Pārsvarā sapratu, bet atsevišķi soļi nebija līdz galam skaidri | B30: =COUNTIF('Anonimizēta aptaujas datu kopa'!$AK$5:$AK$276,A30) -> 79 | C30: =IF(B30=0,0,AVERAGEIF('Anonimizēta aptaujas datu kopa'!$AK$5:$AK$276,A30,'Anonimizēta aptaujas datu kopa'!$AJ$5:$AJ$276)) -> 7.4050633 | D30: 8
A31: Daļēji sapratu, bieži jutos apjucis(-usi) | B31: =COUNTIF('Anonimizēta aptaujas datu kopa'!$AK$5:$AK$276,A31) -> 67 | C31: =IF(B31=0,0,AVERAGEIF('Anonimizēta aptaujas datu kopa'!$AK$5:$AK$276,A31,'Anonimizēta aptaujas datu kopa'!$AJ$5:$AJ$276)) -> 5.6716418 | D31: 6
A32: Vairumā gadījumu nesapratu, kas man jādara tālāk | B32: =COUNTIF('Anonimizēta aptaujas datu kopa'!$AK$5:$AK$276,A32) -> 14 | C32: =IF(B32=0,0,AVERAGEIF('Anonimizēta aptaujas datu kopa'!$AK$5:$AK$276,A32,'Anonimizēta aptaujas datu kopa'!$AJ$5:$AJ$276)) -> 5.7142857 | D32: 6
A33: Pilnībā nesapratu un man trūka informācijas | B33: =COUNTIF('Anonimizēta aptaujas datu kopa'!$AK$5:$AK$276,A33) -> 15 | C33: =IF(B33=0,0,AVERAGEIF('Anonimizēta aptaujas datu kopa'!$AK$5:$AK$276,A33,'Anonimizēta aptaujas datu kopa'!$AJ$5:$AJ$276)) -> 3.4 | D33: 4
A36: Datu avots: Pacientu pieredzes aptauja Nr. 1 “Ceļš līdz diagnozei”, n=272, 2025–2026.

Sheet Atvērto komentāru analīze
A1: ATVĒRTO KOMENTĀRU TEMATISKĀ ANALĪZE
A3: Tematiskā kodēšana veikta automātiski pēc iepriekš definētiem atslēgvārdu kopumiem. Vienā komentārā var būt kodētas vairākas tēmas, tādēļ procentu kopsummai nav jāveido 100 %. Šī ir orientējoša kvalitatīvā analīze; pirms gala publikācijas ieteicama manuāla kodējuma validācija.
A6: Negatīvās pieredzes komentāru galvenās tēmas
A7: Tēma | B7: Minējumi | C7: % no saturiskajiem komentāriem
A8: Gaidīšana un pakalpojumu pieejamība | B8: 86 | C8: 0.344
A9: Diagnozes un rezultātu paziņošanas problēmas | B9: 62 | C9: 0.248
A10: Attieksme, iejūtība un privātums | B10: 47 | C10: 0.188
A11: Informācijas trūkums un neskaidrs pacienta maršruts | B11: 36 | C11: 0.144
A12: Ģimenes ārsta reakcija un nosūtījumu kvalitāte | B12: 27 | C12: 0.108
A13: Psiholoģiskā un emocionālā atbalsta trūkums | B13: 23 | C13: 0.092
A14: Administratīvie un finansiālie šķēršļi | B14: 12 | C14: 0.048
A15: Personāla noslodze un nepietiekams laiks pacientam | B15: 9 | C15: 0.036
A16: Analīzē iekļauti 250 saturiski komentāri; vienā komentārā var būt vairākas tēmas.
A18: Pozitīvās pieredzes komentāru galvenās tēmas
A19: Tēma | B19: Minējumi | C19: % no saturiskajiem komentāriem
A20: Profesionāla, iejūtīga un cieņpilna attieksme | B20: 92 | C20: 0.36078431
A21: Speciālistu kompetence un ārstēšanas kvalitāte | B21: 58 | C21: 0.22745098
A22: Skaidra komunikācija un informācija | B22: 36 | C22: 0.14117647
A23: Ātra diagnostika un Zaļā koridora darbība | B23: 22 | C23: 0.08627451
A24: Tuvinieku un pacientu organizāciju atbalsts | B24: 21 | C24: 0.082352941
A25: Komandas darbs, koordinācija un pēctecība | B25: 10 | C25: 0.039215686
A26: Analīzē iekļauti 255 saturiski komentāri; vienā komentārā var būt vairākas tēmas.
A28: Pacientu ieteikto uzlabojumu galvenās tēmas
A29: Tēma | B29: Minējumi | C29: % no saturiskajiem komentāriem
A30: Skaidrāka informācija un vienots pacienta ceļa apraksts | B30: 78 | C30: 0.30232558
A31: Empātija un pacientcentrēta komunikācija | B31: 66 | C31: 0.25581395
A32: Īsāks gaidīšanas laiks un labāka pieejamība | B32: 63 | C32: 0.24418605
A33: Psiholoģiskais un emocionālais atbalsts | B33: 53 | C33: 0.20542636
A34: Atbalsta personas un tuvinieku iesaiste | B34: 22 | C34: 0.085271318
A35: Ģimenes ārsta reakcijas un nosūtījumu procesa uzlabošana | B35: 19 | C35: 0.073643411
A36: Pacienta koordinators vai vienots kontaktpunkts | B36: 13 | C36: 0.050387597
A37: Vienota datu, attēlu un rezultātu pieejamība | B37: 13 | C37: 0.050387597
A38: Personāla kapacitāte un vairāk laika pacientam | B38: 7 | C38: 0.027131783
A39: Administratīvais un finansiālais atbalsts | B39: 1 | C39: 0.003875969
A40: Analīzē iekļauti 258 saturiski komentāri; vienā komentārā var būt vairākas tēmas.
A42: Anonimizēti ilustratīvi citāti
A43: Tēma | B43: Ilustratīvs citāts
A44: Pacienta maršruts | B44: Vēlētos kuratoru, kas varētu palīdzēt ar informāciju un pierakstiem pie ārstiem.
A45: Komunikācija un empātija | B45: Runāt ar pacientu skaidrā valodā un ar empātiju!
A46: Psiholoģiskais atbalsts | B46: Pirms un pēc iespējamās diagnozes paziņošanas organizēt tikšanos ar psihologu.
A47: Pozitīva pieredze | B47: Zaļais koridors un iespēja operatīvi veikt visus nepieciešamos izmeklējumus.
A50: Datu avots: Pacientu pieredzes aptauja Nr. 1 “Ceļš līdz diagnozei”, n=272, 2025–2026.
